BEGIN:VCALENDAR
VERSION:2.0
PRODID:-//Patriot Guard Riders - ECPv5.3.2.1//NONSGML v1.0//EN
CALSCALE:GREGORIAN
METHOD:PUBLISH
X-WR-CALNAME:Patriot Guard Riders
X-ORIGINAL-URL:https://www.patriotguard.org
X-WR-CALDESC:Events for Patriot Guard Riders
BEGIN:VTIMEZONE
TZID:America/New_York
BEGIN:DAYLIGHT
TZOFFSETFROM:-0500
TZOFFSETTO:-0400
TZNAME:EDT
DTSTART:20190310T070000
END:DAYLIGHT
BEGIN:STANDARD
TZOFFSETFROM:-0400
TZOFFSETTO:-0500
TZNAME:EST
DTSTART:20191103T060000
END:STANDARD
END:VTIMEZONE
BEGIN:VEVENT
DTSTART;VALUE=DATE:20190716
DTEND;VALUE=DATE:20190717
DTSTAMP:20210403T175436
CREATED:20190714T140906Z
LAST-MODIFIED:20190714T141036Z
UID:167627-1563235200-1563321599@www.patriotguard.org
SUMMARY:David Wallace Keirns
DESCRIPTION:Honor Mission\nDavid Wallace Keirns\, Veteran\nUSA\nMarion\, Ohio – 07-16-19\n\n\n\nABOUT THE MISSION: \nObit: https://tinyurl.com/y3yoxv8m\n\n\nPRIMARY STAGING DETAILS: 07-16-19 \nStaging: 4:00 PM\n \nBoyd – Born Funeral Home\n122 W. Columbia Street\nMarion\, Ohio 43302\n\n\nRide Captain: \nGary Knight\nGillkiki@neo.rr.com\n\n\nSpecial Instructions: \nNote: For all members doing the Wall that Heals Escort that day.  We will stage at our destination location at the conclusion of the escort and proceed to this mission.  For all those not attending the Wall Escort please stage at the Funeral Home per Mission Statement and set up a flag-line upon arrival.  Await RC’s arrival for further instruction.\n\n\nFlags & Water:\nFlags will not be provided\nLarge Bike Flags will NOT be needed.\nWater WILL NOT be provided\, please bring your own.\n\nSTAGING #2 DETAILS: 07-17-19 \nStaging: 9:00 AM\n \nBoyd – Born Funeral Home\n122 W. Columbia Street\nMarion\, Ohio 43302\n\n\nRide Captain: \nGary Knight\nGillkiki@neo.rr.com\n\n\nSpecial Instructions: \nEscort/Interment: Immediately following service\, Grand Prairie Cemetery.\n\n\nFlags & Water:\nFlags will not be provided\nIf you have large bike flags\, please bring them.\nWater WILL NOT be provided\, please bring your own.\n\nSubmitted By: Patrick O’Connor \nPosition: Ohio Assistant State Captain \n\nNote: You do not have to own/ride a motorcycle or be a veteran to join\, and membership is Free. The only requirement is RESPECT! To subscribe to receive mission notices\, log into the National Site and click on the Members tab at the top. Select the Subscribe to PGR Missions option.\n Print This Page
URL:https://www.patriotguard.org/mission/david-wallace-keirns/
CATEGORIES:Honor Mission
END:VEVENT
END:VCALENDAR