BEGIN:VCALENDAR
VERSION:2.0
PRODID:-//Patriot Guard Riders - ECPv5.3.2.1//NONSGML v1.0//EN
CALSCALE:GREGORIAN
METHOD:PUBLISH
X-WR-CALNAME:Patriot Guard Riders
X-ORIGINAL-URL:https://www.patriotguard.org
X-WR-CALDESC:Events for Patriot Guard Riders
BEGIN:VTIMEZONE
TZID:America/New_York
BEGIN:DAYLIGHT
TZOFFSETFROM:-0500
TZOFFSETTO:-0400
TZNAME:EDT
DTSTART:20190310T070000
END:DAYLIGHT
BEGIN:STANDARD
TZOFFSETFROM:-0400
TZOFFSETTO:-0500
TZNAME:EST
DTSTART:20191103T060000
END:STANDARD
END:VTIMEZONE
BEGIN:VEVENT
DTSTART;VALUE=DATE:20190913
DTEND;VALUE=DATE:20190914
DTSTAMP:20210401T125826
CREATED:20190911T203108Z
LAST-MODIFIED:20190911T203108Z
UID:173532-1568332800-1568419199@www.patriotguard.org
SUMMARY:David Veryl Hammond
DESCRIPTION:Honor Mission\nDavid Veryl Hammond\, Veteran\nUSAF –  Vietnam\nPeoria\, Arizona – 09-13-19\n\n\n\n\nABOUT THE MISSION: \nDavid Hammond was a United States Air Force Veteran. David served as an aircraft navigation systems repairman. David calibrated test equipment for F-111 fighter planes. He served our country in Vietnam and achieved the rank of Sgt. Among Davids awards were the National Defense Service Medal\, Vietnam Service Medal\, Republic of Vietnam Campaign medal and the Air Force Good Conduct Medal. David served from Oct 1968 till Oct 1972.\n\n\nPRIMARY STAGING DETAILS: 09-13-19 \nStaging Time: 11:30 am \nHeritage Funeral Chapel\n6830 W Thunderbird Rd\nPeoria\, Arizona 85381\n\n\nRide Captain: \nTom Burns- tgburns55@hotmail.com\nSenior Road Guard-Dale Judkins\nFlag Captain: Heather\n\n\nSpecial Instructions: \nCircle of Honor: 11:50 am with family\nKSU: 12:10\, to National in Phoenix\nMilitary Honors: 1:00 pm\n\n\nFlags & Water:\nFlags will not be provided\nIf you have large bike flags\, please bring them.\nWater WILL NOT be provided\, please bring your own.\n\nSTAGING #2 DETAILS: 09-13-19 \nStaging Time: 12:30 pm \nNational Memorial Cemetery of Arizona\, Visitor’s Center\n23029 N. Cave Creek Rd\nPhoenix\, Arizona 85024\n\n\nRide Captain: \nTom Burns- tgburns55@hotmail.com\nSenior Road Guard-Dale Judkins\nFlag Captain: Heather\n\n\nSpecial Instructions: \nMeet Flag Captain at Visitors Center\, proceed to assigned shelter. Flag Line in place for arrival of our Hero\nMilitary Honors 1:00 pm\n\n\nFlags & Water:\nFlags will be provided\nLarge Bike Flags will NOT be needed.\nWater will be provided.\n\nSubmitted By: Tom Burns \nPosition: Arizona State Captain \n\nNote: You do not have to own/ride a motorcycle or be a veteran to join\, and membership is Free. The only requirement is RESPECT! To subscribe to receive mission notices\, log into the National Site and click on the Members tab at the top. Select the Subscribe to PGR Missions option.\n Print This Page
URL:https://www.patriotguard.org/mission/david-veryl-hammond/
CATEGORIES:Honor Mission
END:VEVENT
END:VCALENDAR