BEGIN:VCALENDAR
VERSION:2.0
PRODID:-//Patriot Guard Riders - ECPv5.6.0//NONSGML v1.0//EN
CALSCALE:GREGORIAN
METHOD:PUBLISH
X-WR-CALNAME:Patriot Guard Riders
X-ORIGINAL-URL:https://www.patriotguard.org
X-WR-CALDESC:Events for Patriot Guard Riders
BEGIN:VTIMEZONE
TZID:America/New_York
BEGIN:DAYLIGHT
TZOFFSETFROM:-0500
TZOFFSETTO:-0400
TZNAME:EDT
DTSTART:20160313T070000
END:DAYLIGHT
BEGIN:STANDARD
TZOFFSETFROM:-0400
TZOFFSETTO:-0500
TZNAME:EST
DTSTART:20161106T060000
END:STANDARD
END:VTIMEZONE
BEGIN:VEVENT
DTSTART;TZID=America/New_York:20160627T090000
DTEND;TZID=America/New_York:20160627T110000
DTSTAMP:20210512T165536
CREATED:20160627T130000Z
LAST-MODIFIED:20191201T144756Z
UID:411005-1467018000-1467025200@www.patriotguard.org
SUMMARY:David Smith Vogel\, 94\, USA
DESCRIPTION:Ladies and Gentlemen of the Patriot Guard Riders we have been invited by the family of  David Smith Vogel\, 94 \, US Army  WWII Veteran to stand to honor him and provide an escort at his memorial service.   David enlisted 1/15/1942 serving in the European Campaign\, Rhineland Central Europe\, Northern France and Normandy in the infantry reaching the rank of CP1. He was awarded European/African Middle Eastern Campaign Medal\, American Campaign Medal\, Good Conduct Medal\, and World War II Victory Medal during his service for our country. We will be standing a flag line at the church service and providing an escort for David and his family to the grave site military ceremony at Valley View Cemetery. Please help us honor this hero and his family.\n\nMission Date:  Monday\, 27/Jun/16 \nRide Captains:  Sparky/Terry Mooney\, linda.mooney@earthlink.net   \nFlag Line Staging Location: Calapooia Free Methodist Church\, 333 Church RD\, Sutherlin OR  — Parking lot\n\nStaging Time: 1000 hrs \nRide Briefing: 1015 hrs\n\nFlag line Set: 1030 hrs\n\nService Begins:  1100 hrs \nWe will be providing an escort to Valley View Cemetery\, 881 West Sixth AVE\, Sutherlin OR immediately after the church service. Riders please make sure your flags are secured to your bikes. \nWe will have flags.
URL:https://www.patriotguard.org/mission/david-smith-vogel-94-usa/
CATEGORIES:Archive
END:VEVENT
END:VCALENDAR