BEGIN:VCALENDAR
VERSION:2.0
PRODID:-//Patriot Guard Riders - ECPv5.6.0//NONSGML v1.0//EN
CALSCALE:GREGORIAN
METHOD:PUBLISH
X-WR-CALNAME:Patriot Guard Riders
X-ORIGINAL-URL:https://www.patriotguard.org
X-WR-CALDESC:Events for Patriot Guard Riders
BEGIN:VTIMEZONE
TZID:America/New_York
BEGIN:DAYLIGHT
TZOFFSETFROM:-0500
TZOFFSETTO:-0400
TZNAME:EDT
DTSTART:20160313T070000
END:DAYLIGHT
BEGIN:STANDARD
TZOFFSETFROM:-0400
TZOFFSETTO:-0500
TZNAME:EST
DTSTART:20161106T060000
END:STANDARD
END:VTIMEZONE
BEGIN:VEVENT
DTSTART;TZID=America/New_York:20160805T090000
DTEND;TZID=America/New_York:20160805T110000
DTSTAMP:20210511T192617
CREATED:20160805T130000Z
LAST-MODIFIED:20191201T143828Z
UID:410133-1470387600-1470394800@www.patriotguard.org
SUMMARY:David Shawn Miles\, USMC\, Gulf Veteran / Greenville
DESCRIPTION:David Shawn Miles\nUSMC Gulf War Veteran\nGreenville\, Anderson\, SC\n05 AUG 16\n\n\n\nThe Patriot Guard Riders have been requested to stand and honor Corporal David Shawn Miles for his final formation. \nDavid served his country honorably from 1987-1996 where he attained the rank of Corporal E4. He fought for our freedom during the Gulf War\, for that we are forever grateful. \nMission Details:  Friday 05 Aug. 2016 \nStaging: \nThomas McAfee Funeral Home – Northwest Chapel\n6710 White Horse Road\nGreenville\, SC\, 29611\nMap: http://mapq.st/2avkfPv \nAssemble: 1045/10:45 AM \nBrief: 1100/11:00 AM \nFlag line: 1115/11:15 AM \nExecution:\nWe will stand a flag line from 1115 until the start of the service at 1200. At that time we will stand down until the service is complete. We will then render honors as our veteran is transferred to the coach and mount up for the escort. We will be escorting our Hero to MJ “Dolly” Cooper. Once there we will render honors and stand a flag line for the graveside service.\n\nInterment:  \nMJ “Dolly” Cooper Veterans Cemetery\n140 Inway Drive\nAnderson\, SC 29621\nMap: http://mapq.st/2avkgCX \nPlease note the weather forecast is calling for rain and this will be a 30 mile escort with interstate riding. Please feel free to cage it if you are not comfortable riding in these conditions. As always Safety is our first priority \nRCIC:  India Rackley\n864-704-2132\nindiarackley@gmail.com
URL:https://www.patriotguard.org/mission/david-shawn-miles-usmc-gulf-veteran-greenville/
CATEGORIES:Archive
END:VEVENT
END:VCALENDAR