BEGIN:VCALENDAR
VERSION:2.0
PRODID:-//Patriot Guard Riders - ECPv5.3.2.1//NONSGML v1.0//EN
CALSCALE:GREGORIAN
METHOD:PUBLISH
X-WR-CALNAME:Patriot Guard Riders
X-ORIGINAL-URL:https://www.patriotguard.org
X-WR-CALDESC:Events for Patriot Guard Riders
BEGIN:VTIMEZONE
TZID:America/New_York
BEGIN:DAYLIGHT
TZOFFSETFROM:-0500
TZOFFSETTO:-0400
TZNAME:EDT
DTSTART:20190310T070000
END:DAYLIGHT
BEGIN:STANDARD
TZOFFSETFROM:-0400
TZOFFSETTO:-0500
TZNAME:EST
DTSTART:20191103T060000
END:STANDARD
END:VTIMEZONE
BEGIN:VEVENT
DTSTART;VALUE=DATE:20190906
DTEND;VALUE=DATE:20190908
DTSTAMP:20210401T100651
CREATED:20190903T000513Z
LAST-MODIFIED:20190903T000513Z
UID:172383-1567728000-1567900799@www.patriotguard.org
SUMMARY:David R. Spicer
DESCRIPTION:Honor Mission\nDavid R. Spicer\, Veteran\nUSA –\nShawnee\, Ohio – 09-06-19\n\n\n\nABOUT THE MISSION: \nCpl David R. Spicer’s daughter is married to a NC PGR member. No obituary is available at this time.\n\n\nPRIMARY STAGING DETAILS: 09-06-19 \nStaging Time: 6:00 PM\n \nJ.E. Humphrey Funeral Home\n118 West Walnut Street\nShawnee\, Ohio 43782\n\n\nRide Captain: \nMark Squires\nmark_squires551@yahoo.com\n\n\nSpecial Instructions: \nVisitation\n\nFlags & Water:\nFlags will not be provided\nLarge Bike Flags will NOT be needed.\nWater WILL NOT be provided\, please bring your own.\n\nSTAGING #2 DETAILS: 09-07-19 \nStaging Time: 09:00 AM\n \nService:J.E. Humphrey Funeral Home\n118 West Walnut Street\nShawnee\, Ohio 43782\n\n\nRide Captain: \nMark Squires\nmark_squires551@yahoo.com\n\n\nSpecial Instructions: \nPlease follow Mark’s instructions.\nDress per the weather conditions and use your own judgment on getting safely to and from the mission.\n\n\nFlags & Water:\nFlags will not be provided\nIf you have large bike flags\, please bring them.\nWater WILL NOT be provided\, please bring your own.\n\n\n\nSubmitted By: Robert Woods \nPosition: Ohio State Captain \n\nNote: You do not have to own/ride a motorcycle or be a veteran to join\, and membership is Free. The only requirement is RESPECT! To subscribe to receive mission notices\, log into the National Site and click on the Members tab at the top. Select the Subscribe to PGR Missions option.\n Print This Page
URL:https://www.patriotguard.org/mission/david-r-spicer/
CATEGORIES:Honor Mission
END:VEVENT
END:VCALENDAR