BEGIN:VCALENDAR
VERSION:2.0
PRODID:-//Patriot Guard Riders - ECPv5.3.2.1//NONSGML v1.0//EN
CALSCALE:GREGORIAN
METHOD:PUBLISH
X-WR-CALNAME:Patriot Guard Riders
X-ORIGINAL-URL:https://www.patriotguard.org
X-WR-CALDESC:Events for Patriot Guard Riders
BEGIN:VTIMEZONE
TZID:America/New_York
BEGIN:DAYLIGHT
TZOFFSETFROM:-0500
TZOFFSETTO:-0400
TZNAME:EDT
DTSTART:20190310T070000
END:DAYLIGHT
BEGIN:STANDARD
TZOFFSETFROM:-0400
TZOFFSETTO:-0500
TZNAME:EST
DTSTART:20191103T060000
END:STANDARD
END:VTIMEZONE
BEGIN:VEVENT
DTSTART;VALUE=DATE:20190614
DTEND;VALUE=DATE:20190615
DTSTAMP:20210405T135027
CREATED:20190614T032443Z
LAST-MODIFIED:20190614T032443Z
UID:164754-1560470400-1560556799@www.patriotguard.org
SUMMARY:David R. Fisher
DESCRIPTION:Honor Mission\nDavid R. Fisher\nUSA – Vietnam\nFayetteville\, Arkansas – 06-14-19\n\n\n\nABOUT THE MISSION: \nDavid proudly served his country in the United States Army from November 3\, 1966 to November 1\, 1968. He received the honorable Purple Heart after being injured while in serving in Vietnam.\n\n\nPRIMARY STAGING DETAILS: 06-14-19 \nStaging Time: 10:30 AM\n \nFayetteville National Cemetery\nFayetteville\, Arkansas 72701\n\n\nRide Captain: \nGreg “Weebles” Weeks\nweeblespgr@att.net\n479-466-8586\n\nAsst: Cliff “Ol Man” Olson\, colson67@hotmail.com\, 479-301-4361\nDewayne “XRAY” Uselton\, pgrxray@gamil.com\, 479-200-2277\n\n\nSpecial Instructions: \nStage at 1030 am.\nBriefing at 1045 am and flag line upon arrival of family until end of service.\n\nFlags & Water:\nFlags will be provided\nLarge Bike Flags will NOT be needed.\nWater will be provided.\n\n\n\nSubmitted By: Gregory Weeks \nPosition: \n\nNote: You do not have to own/ride a motorcycle or be a veteran to join\, and membership is Free. The only requirement is RESPECT! To subscribe to receive mission notices\, log into the National Site and click on the Members tab at the top. Select the Subscribe to PGR Missions option.\n Print This Page
URL:https://www.patriotguard.org/mission/david-r-fisher/
CATEGORIES:Honor Mission
END:VEVENT
END:VCALENDAR