BEGIN:VCALENDAR
VERSION:2.0
PRODID:-//Patriot Guard Riders - ECPv5.6.0//NONSGML v1.0//EN
CALSCALE:GREGORIAN
METHOD:PUBLISH
X-WR-CALNAME:Patriot Guard Riders
X-ORIGINAL-URL:https://www.patriotguard.org
X-WR-CALDESC:Events for Patriot Guard Riders
BEGIN:VTIMEZONE
TZID:America/New_York
BEGIN:DAYLIGHT
TZOFFSETFROM:-0500
TZOFFSETTO:-0400
TZNAME:EDT
DTSTART:20160313T070000
END:DAYLIGHT
BEGIN:STANDARD
TZOFFSETFROM:-0400
TZOFFSETTO:-0500
TZNAME:EST
DTSTART:20161106T060000
END:STANDARD
END:VTIMEZONE
BEGIN:VEVENT
DTSTART;TZID=America/New_York:20160604T090000
DTEND;TZID=America/New_York:20160604T110000
DTSTAMP:20210513T144655
CREATED:20160604T130000Z
LAST-MODIFIED:20191201T145454Z
UID:411630-1465030800-1465038000@www.patriotguard.org
SUMMARY:David Otto Brents\, 71\, USMC-Vietnam\, USMCR Veteran
DESCRIPTION:The family of USMC Cpl. David Otto Brents\, age 71 has asked us to stand for their hero and it will be our honor to do so. Mr. Brents passed away on May 29\, 2016. \nCpl Brents served in Vietnam from 1966-68 active duty and continued in the Reserves until 1972. \nHe later joined the Dekalb County Police Department where\, over course of 25 years (1973-1998) he made his way to becoming the Deputy Director of Public Safety over Communications. During his tenure there he designed and implemented world leading\n9-1-1 systems. This led him to be invited by several States as well as countries such as Great Britain and China to speak about the 9-1-1 Communications systems. \nThis will be a Memorial Service flag line only.\nStaging is at Cagle Funeral Home\n364 East Church Street\nJasper\, GA. \nService is 6/4/2016\, 11:00 am.\nFlag line – 10:15 am. \nActing RCIC –  “Sparky” Kelli Blohm (standing in for RC Crayons Rider)\n706-502-1213\nel_naturelle@hotmail.com
URL:https://www.patriotguard.org/mission/david-otto-brents-71-usmc-vietnam-usmcr-veteran/
CATEGORIES:Archive
END:VEVENT
END:VCALENDAR