BEGIN:VCALENDAR
VERSION:2.0
PRODID:-//Patriot Guard Riders - ECPv5.6.0//NONSGML v1.0//EN
CALSCALE:GREGORIAN
METHOD:PUBLISH
X-WR-CALNAME:Patriot Guard Riders
X-ORIGINAL-URL:https://www.patriotguard.org
X-WR-CALDESC:Events for Patriot Guard Riders
BEGIN:VTIMEZONE
TZID:America/New_York
BEGIN:DAYLIGHT
TZOFFSETFROM:-0500
TZOFFSETTO:-0400
TZNAME:EDT
DTSTART:20160313T070000
END:DAYLIGHT
BEGIN:STANDARD
TZOFFSETFROM:-0400
TZOFFSETTO:-0500
TZNAME:EST
DTSTART:20161106T060000
END:STANDARD
END:VTIMEZONE
BEGIN:VEVENT
DTSTART;TZID=America/New_York:20160307T090000
DTEND;TZID=America/New_York:20160307T110000
DTSTAMP:20210513T220643
CREATED:20160307T140000Z
LAST-MODIFIED:20191201T151948Z
UID:413848-1457341200-1457348400@www.patriotguard.org
SUMMARY:David Michael Wilson\, 27\, USMC\, GWOT / Albuquerque
DESCRIPTION:David Michael Wilson – Cpl\nUnited States Marine Corps – Afghanistan\n3-7-2016\n\n\nPatriot Guard Riders have been invited by the family to honor a fallen veteran and brother. Cpl David Michael Wilson\, 27\, died at home on February 25\, 2016. He was born September 13\, 1988\, in Forest Grove\, Oregon.  He graduated from Rio Rancho High School in 2007. In April of the same year\, he enlisted in the US Marine Corps and left for Camp Pendleton in June. He served as a machine gunner in Golf co. 2/5\, and Lima co. 3/5 in multiple deployments\, including Afghanistan\, as part of Operation Enduring Freedom. David was honorably discharged in July 2011 and returned home to Albuquerque.\n\nMore at: http://www.frenchfunerals.com/book-of-memories/2409019/Wilson-David/obituary.php \n PRIMARY STAGING INFO – 3-7-2016\n\n Location:\nFrench Funeral & Cremations\n10500 Lomas Blvd \nAlbuquerque\, NM \nStaging Time:\n8:45 AM \nBriefing:\n8:55 AM\nFlag Line: 9:10 and after services 10:30 \nKSU – to leave after service\, for escort  \nEscort To:  \nSanta Fe National Cemetery\n501 N. Guadalupe St.     Santa Fe\, NM \nFor Honor Services  at  12:45 PM  \nAfter the Santa Fe Services\, the riders are welcome to join the family at: \nThe American Legion Post 49\n11007 Central Ave NE\nAlbuquerque\, NM\nTime: 3PM  1500 \nRCIC:  Dan Rambow- RC – dan48041@yahoo.com  – 505-994-1060\nRCIC & Cage Support: Alfredo Gomez – ASC – Gomez6801@gmail.com – 505-573-6801\n\nFlags will be provided.\nLarge bike flags will NOT be needed. \nWeather: at times of service\n46-56˚ Sunny in Albuquerque       50˚ Clear and breezy\, in Santa Fe
URL:https://www.patriotguard.org/mission/david-michael-wilson-27-usmc-gwot-albuquerque/
CATEGORIES:Archive
END:VEVENT
END:VCALENDAR