BEGIN:VCALENDAR
VERSION:2.0
PRODID:-//Patriot Guard Riders - ECPv5.3.2.1//NONSGML v1.0//EN
CALSCALE:GREGORIAN
METHOD:PUBLISH
X-WR-CALNAME:Patriot Guard Riders
X-ORIGINAL-URL:https://www.patriotguard.org
X-WR-CALDESC:Events for Patriot Guard Riders
BEGIN:VTIMEZONE
TZID:America/New_York
BEGIN:DAYLIGHT
TZOFFSETFROM:-0500
TZOFFSETTO:-0400
TZNAME:EDT
DTSTART:20190310T070000
END:DAYLIGHT
BEGIN:STANDARD
TZOFFSETFROM:-0400
TZOFFSETTO:-0500
TZNAME:EST
DTSTART:20191103T060000
END:STANDARD
END:VTIMEZONE
BEGIN:VEVENT
DTSTART;VALUE=DATE:20190906
DTEND;VALUE=DATE:20190907
DTSTAMP:20210401T111315
CREATED:20190905T114643Z
LAST-MODIFIED:20190905T114643Z
UID:172840-1567728000-1567814399@www.patriotguard.org
SUMMARY:David Michael Imber
DESCRIPTION:Honor Mission\nDavid Michael Imber\, Veteran\nUSA\, ANG – WoT\nHowell\, Michigan – 09-06-19\n\n\n\nABOUT THE MISSION: \nThe family of Major David Michael Imber has invited the Patriot Guard Riders to stand in silent honor of his service to our country. David served as a member of both the Army as well as the Army National Guard. David started his career with the military by joining ROTC while earning his bachelor’s degree at Eastern Michigan University. Upon graduation David joined the Army in 2005. He has served with several different units and served in Iraq. During his time with the Army David has earned many awards and commendations. In addition to his service in the Army David has served proudly as a Law Enforcement Officer. David served both as a Lathrup Village LEO and a Livingston County Sheriff Deputy. Please come out to support David’s family in their time of grief.\nObituary\n\n\nPRIMARY STAGING DETAILS: 09-06-19 \nStaging Time: 10:00 AM\n \nHowell Memorial Cemetery\n1410 W. Highland Rd.\nHowell\, Michigan 48843\nMap\n\n\nRide Captain: \nVito\n586-909-6901\nShpd146@comcast.net\n\n\nSpecial Instructions: \nBriefing: 10:20 AM\nFlag Line approx. 10:45 AM\n\n\nFlags & Water:\nFlags will not be provided\nLarge Bike Flags will NOT be needed.\nWater WILL NOT be provided\, please bring your own.\n\n\n\nSubmitted By: Alan Niemeyer \nPosition: Michigan State Captain \n\nNote: You do not have to own/ride a motorcycle or be a veteran to join\, and membership is Free. The only requirement is RESPECT! To subscribe to receive mission notices\, log into the National Site and click on the Members tab at the top. Select the Subscribe to PGR Missions option.\n Print This Page
URL:https://www.patriotguard.org/mission/david-michael-imber/
CATEGORIES:Honor Mission
END:VEVENT
END:VCALENDAR