BEGIN:VCALENDAR
VERSION:2.0
PRODID:-//Patriot Guard Riders - ECPv5.3.2.1//NONSGML v1.0//EN
CALSCALE:GREGORIAN
METHOD:PUBLISH
X-WR-CALNAME:Patriot Guard Riders
X-ORIGINAL-URL:https://www.patriotguard.org
X-WR-CALDESC:Events for Patriot Guard Riders
BEGIN:VTIMEZONE
TZID:America/New_York
BEGIN:DAYLIGHT
TZOFFSETFROM:-0500
TZOFFSETTO:-0400
TZNAME:EDT
DTSTART:20180311T070000
END:DAYLIGHT
BEGIN:STANDARD
TZOFFSETFROM:-0400
TZOFFSETTO:-0500
TZNAME:EST
DTSTART:20181104T060000
END:STANDARD
END:VTIMEZONE
BEGIN:VEVENT
DTSTART;TZID=America/New_York:20180425T091500
DTEND;TZID=America/New_York:20180425T111500
DTSTAMP:20210403T075118
CREATED:20180425T131500Z
LAST-MODIFIED:20200726T154456Z
UID:327732-1524647700-1524654900@www.patriotguard.org
SUMMARY:David M. Heckadon\, Retired\, USN - Vietnam
DESCRIPTION:Honor Mission\nDavid M. Heckadon\, Retired\nUSN – Vietnam\nMULTI-CITY\, Missouri – 25 Apr 2018\n\n\nABOUT THE MISSION: \nThe family of YN1 David M. Heckadon\, 65\, has requested the Patriot Guard to honor their loved one who served in the United States Navy.\nPRIMARY STAGING DETAILS: 25 Apr 2018\nPrimary Staging Time: 9:15 A.M. \nLangsford Funeral Home\n115 SW 3rd St\nLee’s Summit\, Missouri – 64063\nRide Captain: \nJim “Deuce” Neece\nJasssco@aol.com\n816-207-7335\nSpecial Instructions: \nRide Meeting: 9:30 a.m.Visitation: 10:00 a.m. to 11:00 a.m. \nFuneral: 11 a.m. \nNo request for an escort (family is traveling to cemetery individually). \n\nFlags & Water: \nFlags Will Be Provided\nLarge Bike Flags will NOT be needed.\nWater WILL NOT be provided\, please bring your own.\n\n\nSTAGING #2 DETAILS: 25 Apr\, 2018\nStaging #2 Time: 12:45 P.M. \nMissouri Veterans Cemetery\nHigginsville\, Missouri – 64037\nRide Captain: \nJim “Deuce” Neece\nJasssco@aol.com\n816-207-7335\nSpecial Instructions: \nHonors: 1:00 PM\nFlags & Water: \nFlags Will Be Provided\nLarge Bike Flags will NOT be needed\nWater WILL NOT be provided\, please bring your own.\n  \n\nSubmitted By: Jim Neece\nPosition: Ride Captain \n\nNote:\nYou do not have to own/ride a motorcycle or be a Veteran to join and membership is Free. The only requirement is RESPECT! To join\, simply go to www.PatriotGuard.org and click on Register. Membership is Free. \nTo subscribe to receive mission notices\, log into the National Site and click on the Mission Tab at the top. Select the Subscribe to Missions option.
URL:https://www.patriotguard.org/mission/david-m-heckadon-retired-usn-vietnam/
LOCATION:William C. Matthew
CATEGORIES:Honor Mission
END:VEVENT
END:VCALENDAR