BEGIN:VCALENDAR
VERSION:2.0
PRODID:-//Patriot Guard Riders - ECPv5.6.0//NONSGML v1.0//EN
CALSCALE:GREGORIAN
METHOD:PUBLISH
X-WR-CALNAME:Patriot Guard Riders
X-ORIGINAL-URL:https://www.patriotguard.org
X-WR-CALDESC:Events for Patriot Guard Riders
BEGIN:VTIMEZONE
TZID:America/New_York
BEGIN:DAYLIGHT
TZOFFSETFROM:-0500
TZOFFSETTO:-0400
TZNAME:EDT
DTSTART:20160313T070000
END:DAYLIGHT
BEGIN:STANDARD
TZOFFSETFROM:-0400
TZOFFSETTO:-0500
TZNAME:EST
DTSTART:20161106T060000
END:STANDARD
END:VTIMEZONE
BEGIN:VEVENT
DTSTART;TZID=America/New_York:20160606T090000
DTEND;TZID=America/New_York:20160606T110000
DTSTAMP:20210513T145531
CREATED:20160606T130000Z
LAST-MODIFIED:20191201T145451Z
UID:411626-1465203600-1465210800@www.patriotguard.org
SUMMARY:David M Bradford\, USA\, Vietnam / Burbank
DESCRIPTION:SGT David M Bradford\nUS Army Vietnam Veteran\nBurbank/Elwood IL\n6 June 16\n\n\n\nDavids family has requested the presence of The Patriot Guard to honor him during his funeral\,escort and burial. Legion Riders will be present as well. \nSGT Bradford answered our Country’s call and proudly served as an infantryman in Vietnam. He was awarded a Bronze star with a “V” for valor. As well as a Purple Heart.His medals include Vietnam Service medal\, National Defense and Combat Infantry Badge. \nHe was a member of American Legion Post Number 991 in Worth\, as well as a Legion Rider. \nLOCATION:\nLawn Funeral Home – Burbank\n7909 State Road\nBurbank \nSTAGE and BRIEF: 9:00am \nAfter service We\, along with The Last Ride Motorcycle Hearse\, the help of Illinois State Police\, will escort to Abraham Lincoln National Cemetery for a 12:30 burial. \nSRC:\nbigDave\n312-405-2692
URL:https://www.patriotguard.org/mission/david-m-bradford-usa-vietnam-burbank/
END:VEVENT
END:VCALENDAR