BEGIN:VCALENDAR
VERSION:2.0
PRODID:-//Patriot Guard Riders - ECPv5.6.0//NONSGML v1.0//EN
CALSCALE:GREGORIAN
METHOD:PUBLISH
X-WR-CALNAME:Patriot Guard Riders
X-ORIGINAL-URL:https://www.patriotguard.org
X-WR-CALDESC:Events for Patriot Guard Riders
BEGIN:VTIMEZONE
TZID:America/New_York
BEGIN:DAYLIGHT
TZOFFSETFROM:-0500
TZOFFSETTO:-0400
TZNAME:EDT
DTSTART:20160313T070000
END:DAYLIGHT
BEGIN:STANDARD
TZOFFSETFROM:-0400
TZOFFSETTO:-0500
TZNAME:EST
DTSTART:20161106T060000
END:STANDARD
END:VTIMEZONE
BEGIN:VEVENT
DTSTART;TZID=America/New_York:20160716T090000
DTEND;TZID=America/New_York:20160716T110000
DTSTAMP:20210512T132303
CREATED:20160716T130000Z
LAST-MODIFIED:20191201T144545Z
UID:410806-1468659600-1468666800@www.patriotguard.org
SUMMARY:David Luther Humphreys
DESCRIPTION:David Luther Humphreys\nU. S. Navy Veteran\n\n\n\nPatriot Guard Brothers and Sisters\, \nThe family of David L. Humphreys has graciously invited the Patriot Guard Riders to stand in silent honor of him as he is remembered at a memorial service. \nDavid served his country for 4 ½ years in the U.S. Navy. \nPlease come out if you are able and join in showing respect and honor to this deserved veteran and his family.  Bring your 3’ X 5’ pole mounted flags\, if you have them. \nThis will be a one part mission. \nSaturday 16 July:\nStage/Briefing:   1000 hrs\nWayside Baptist Church\n45 Turk Mountain Lane\nWaynesboro\, Virginia 22908 \nEstablish Flag Line:  1015 hrs\nWe will Stand Tall and with Honor as Family and Guests arrive at the church. \nService:  1100 hrs\nWe will stand down the flag line at the start of the service. \nAs always\, bikes preferred\, cages are welcome.  If you plan to fly a bike mounted flag\, please ensure it is secure for road speeds. \nRCIC:  Skip Folks\nyacky@aol.com\nC 540-960-1959
URL:https://www.patriotguard.org/mission/david-luther-humphreys/
CATEGORIES:Archive
END:VEVENT
END:VCALENDAR