BEGIN:VCALENDAR
VERSION:2.0
PRODID:-//Patriot Guard Riders - ECPv5.3.2.1//NONSGML v1.0//EN
CALSCALE:GREGORIAN
METHOD:PUBLISH
X-WR-CALNAME:Patriot Guard Riders
X-ORIGINAL-URL:https://www.patriotguard.org
X-WR-CALDESC:Events for Patriot Guard Riders
BEGIN:VTIMEZONE
TZID:America/New_York
BEGIN:DAYLIGHT
TZOFFSETFROM:-0500
TZOFFSETTO:-0400
TZNAME:EDT
DTSTART:20190310T070000
END:DAYLIGHT
BEGIN:STANDARD
TZOFFSETFROM:-0400
TZOFFSETTO:-0500
TZNAME:EST
DTSTART:20191103T060000
END:STANDARD
END:VTIMEZONE
BEGIN:VEVENT
DTSTART;VALUE=DATE:20190508
DTEND;VALUE=DATE:20190509
DTSTAMP:20210403T003922
CREATED:20190506T151829Z
LAST-MODIFIED:20190506T151829Z
UID:159800-1557273600-1557359999@www.patriotguard.org
SUMMARY:David Loyd Delany
DESCRIPTION:Honor Mission\nDavid Loyd Delany\, Veteran\nUSN –\nMULTI-CITY\, California – 05-08-19\n\n\n\nABOUT THE MISSION: \nThe Patriot Guard Riders have been invited by family to honor and escort their loved one\, US Navy Veteran David Loyd Delany on his last ride to Bakersfield National Cemetery. We will honor this request and one son will be riding in the escort with us. FN Delany served his country proudly from 15 NOV 1955 until his honorable discharge on 15 AUG 1957. He was assigned to the U.S.S. Des Moines (CA-134) at Portsmouth\, VA. Net service time was 1 yr. 09 months and 1 day and 1 yr. 5 months and 13 days in a foreign and/or sea service.\n\n\nPRIMARY STAGING DETAILS: 05-08-19 \nStaging Time: 11:30 AM\n \nSt. Malachy Catholic Church\n407 West E st\nTehachapi\, California 93561\nMap\n\n\nRide Captain: \nJim Jacobs\njj33503@comcast.net\n\n\nSpecial Instructions: \nThere will be a funeral mass in progress so please come in quietly.\nBrief: 11:45 AM\nKSU to BNC @ 12:15 PM\nUpon arrival at BNC\, please stop playing any music\, per request from the director. If you bring large bike flags\, please ensure they are capable of safely operating at freeway speeds.\n\n\nFlags & Water:\nFlags will not be provided\nIf you have large bike flags\, please bring them.\nWater WILL NOT be provided\, please bring your own.\n\nSTAGING #2 DETAILS: 05-08-19 \nStaging Time: 12:45 PM\n \nBakersfield National Cemetery\n30338 E Bear Mountain Blvd.\nArvin\, California 93203\nMap\n\n\nRide Captain: \nJim Jacobs\njj33503@comcast.net\n\n\nSpecial Instructions: \nUpon arrival at BNC\, please stop playing any music\, per request from the director.\n\n\nFlags & Water:\nFlags will not be provided\nLarge Bike Flags will NOT be needed.\nWater WILL NOT be provided\, please bring your own.\n\n\n\nSubmitted By: Robert Firestine \nPosition: California Assistant State Captain \n\nNote: You do not have to own/ride a motorcycle or be a veteran to join\, and membership is Free. The only requirement is RESPECT! To subscribe to receive mission notices\, log into the National Site and click on the Members tab at the top. Select the Subscribe to PGR Missions option.\n Print This Page
URL:https://www.patriotguard.org/mission/david-loyd-delany/
CATEGORIES:Honor Mission
END:VEVENT
END:VCALENDAR