BEGIN:VCALENDAR
VERSION:2.0
PRODID:-//Patriot Guard Riders - ECPv5.3.2.1//NONSGML v1.0//EN
CALSCALE:GREGORIAN
METHOD:PUBLISH
X-WR-CALNAME:Patriot Guard Riders
X-ORIGINAL-URL:https://www.patriotguard.org
X-WR-CALDESC:Events for Patriot Guard Riders
BEGIN:VTIMEZONE
TZID:America/New_York
BEGIN:DAYLIGHT
TZOFFSETFROM:-0500
TZOFFSETTO:-0400
TZNAME:EDT
DTSTART:20190310T070000
END:DAYLIGHT
BEGIN:STANDARD
TZOFFSETFROM:-0400
TZOFFSETTO:-0500
TZNAME:EST
DTSTART:20191103T060000
END:STANDARD
END:VTIMEZONE
BEGIN:VEVENT
DTSTART;VALUE=DATE:20190723
DTEND;VALUE=DATE:20190724
DTSTAMP:20210404T065341
CREATED:20190720T005700Z
LAST-MODIFIED:20190720T005700Z
UID:168328-1563840000-1563926399@www.patriotguard.org
SUMMARY:David Lloyd Hubbard
DESCRIPTION:Honor Mission\nDavid Lloyd Hubbard\, Veteran\nUSN – Vietnam\nHouston\, Texas – 07-23-19\n\n\n\nABOUT THE MISSION: \nDavid Lloyd Hubbard\, 76\, of Montgomery\, Texas passed away July 15\, 2019. He was born in Salem\, Illinois on December 22\, 1942. David joined the United States Navy July 11\, 1962 and joined the crew of the USS Bayfield in 1964. The USS Bayfield saw duty in Vietnam during the time he was on board. He served honorably and was discharged August 5\, 1966 as a BM3.\n\n\nPRIMARY STAGING DETAILS: 07-23-19 \nStaging Time: 10:15 AM\n \nAmerican Heritage Funeral Home\n10710 Veterans Memorial Dr.\nHouston\, Texas 77038\nMap\n\n\nRide Captain: \nKevin Hobart\nPhone number: (281) 772-0393\nEmail address: khobart96@gmail.com\n\nAsst: George Pelkey\, (713) 376-2812\, georgepelkey@prodigy.net\n\n\nSpecial Instructions: \nStaging Time: 10:15 am – 10:45 am\nBriefing Time: 10:45 am\nIn position time or KSU: 11:00 am\nService Time: 11:30 am\nFlag line at funeral home from 11:00 am to 11:30 am.\nFamily would like 2 flag bikes\, with LEO escort\, to escort to shelter.\nFAST team will leave after service starts for Cemetery.\n\n\nFlags & Water:\nFlags will be provided\nIf you have large bike flags\, please bring them.\nWater will be provided.\n\nSTAGING #2 DETAILS: 07-23-19 \nStaging Time: 11:45 AM\n \nHouston National Cemetery\n10410 Veterans Memorial Dr.\nHouston\, Texas 77038\nMap\n\n\nRide Captain: \nKevin Hobart\n(281) 772-0393\nkhobart96@gmail.com\n\nAsst: George Pelkey\, (713) 376-2812\, georgepelkey@prodigy.net\n\n\nSpecial Instructions: \nStaging Time: 11:45 am\nBriefing Time: 12:00 pm\nIn position time or KSU: 12:15 pm\nGate Time: 12:30 pm\nFlag line at Houston National Cemetery.\n\n\nFlags & Water:\nFlags will be provided\nIf you have large bike flags\, please bring them.\nWater will be provided.\n\n\n\nSubmitted By: Steve Cox \nPosition: Texas Ride Captain \n\nNote: You do not have to own/ride a motorcycle or be a veteran to join\, and membership is Free. The only requirement is RESPECT! To subscribe to receive mission notices\, log into the National Site and click on the Members tab at the top. Select the Subscribe to PGR Missions option.\n Print This Page
URL:https://www.patriotguard.org/mission/david-lloyd-hubbard/
CATEGORIES:Honor Mission
END:VEVENT
END:VCALENDAR