BEGIN:VCALENDAR
VERSION:2.0
PRODID:-//Patriot Guard Riders - ECPv5.6.0//NONSGML v1.0//EN
CALSCALE:GREGORIAN
METHOD:PUBLISH
X-WR-CALNAME:Patriot Guard Riders
X-ORIGINAL-URL:https://www.patriotguard.org
X-WR-CALDESC:Events for Patriot Guard Riders
BEGIN:VTIMEZONE
TZID:America/New_York
BEGIN:DAYLIGHT
TZOFFSETFROM:-0500
TZOFFSETTO:-0400
TZNAME:EDT
DTSTART:20160313T070000
END:DAYLIGHT
BEGIN:STANDARD
TZOFFSETFROM:-0400
TZOFFSETTO:-0500
TZNAME:EST
DTSTART:20161106T060000
END:STANDARD
END:VTIMEZONE
BEGIN:VEVENT
DTSTART;TZID=America/New_York:20160708T090000
DTEND;TZID=America/New_York:20160708T110000
DTSTAMP:20210513T001249
CREATED:20160708T130000Z
LAST-MODIFIED:20191201T144537Z
UID:410793-1467968400-1467975600@www.patriotguard.org
SUMMARY:David Lee Willis
DESCRIPTION:The  family of U.S. Army/Vietnam Era Veteran SP4 David Lee Willis has asked  the PGR to stand a flag line at his services to be held on 08 July 2016  at Sapulpa\, OK. \nServices will be held at Greenhill Funeral Home Chapel \,  400 E Teel Rd\, Sapulpa\, OK at 1400. \nThe PGR has also been asked to  perform Military Honors.  There will be no escort. \nDATE:  Friday\, 08 July 2016 \nSTAGING:      1230\n                        Greenhill Funeral Home Chapel\n                         400 E Teel Rd\n                         Sapulpa\, OK \nBRIEFING:      1300 \nFLAG LINE:     1330 \nWEATHER:      Forecast High of 94 with a 30% chance of rain—Please remember to Hydrate-Hydrate-Hydrate \nRCIC:\nMike “Penni” Pennington\nwmp8843@cox.net\n918-557-1030 \nASSISTING:\nTom “Jester” Pope\ntom.pope1@cox.net\n918-740-1026
URL:https://www.patriotguard.org/mission/david-lee-willis/
CATEGORIES:Archive
END:VEVENT
END:VCALENDAR