BEGIN:VCALENDAR
VERSION:2.0
PRODID:-//Patriot Guard Riders - ECPv5.3.2.1//NONSGML v1.0//EN
CALSCALE:GREGORIAN
METHOD:PUBLISH
X-WR-CALNAME:Patriot Guard Riders
X-ORIGINAL-URL:https://www.patriotguard.org
X-WR-CALDESC:Events for Patriot Guard Riders
BEGIN:VTIMEZONE
TZID:America/New_York
BEGIN:DAYLIGHT
TZOFFSETFROM:-0500
TZOFFSETTO:-0400
TZNAME:EDT
DTSTART:20190310T070000
END:DAYLIGHT
BEGIN:STANDARD
TZOFFSETFROM:-0400
TZOFFSETTO:-0500
TZNAME:EST
DTSTART:20191103T060000
END:STANDARD
END:VTIMEZONE
BEGIN:VEVENT
DTSTART;VALUE=DATE:20190709
DTEND;VALUE=DATE:20190710
DTSTAMP:20210404T041101
CREATED:20190708T005827Z
LAST-MODIFIED:20190708T005827Z
UID:166905-1562630400-1562716799@www.patriotguard.org
SUMMARY:David Lee Ware
DESCRIPTION:Honor Mission\nDavid Lee Ware\, Veteran\nUSN –\nAlvarado\, Texas – 07-09-19\n\n\n\nABOUT THE MISSION: \nFuneral Service & Procession\, Interment Service.\n\n\nPRIMARY STAGING DETAILS: 07-09-19 \nStaging Time: 09:00 AM\n \nClayton Kay Vaughn Funeral Home\n200 East Patton Avenue\nAlvarado\, Texas 76009\n\n\nRide Captain: \nRick Crabb\nrandjcrabb@juno.com\n(910) 330-9861\n\nAsst: Rick Elliott\, rick.elliott@yahoo.com\, (214) 356-7535\n\n\nSpecial Instructions: \nStaging Time:0900\nBriefing Time:0910\nIn Position/KSU Time:0920\nStarting Time:1000\nFlag Line for the arrival of Mr. Ware’s family and friends.\nWhen directed\, the Riders will return the flags to the support vehicle\, receive the Safety Brief and prepare to accompany the procession to the cemetery.\nRiders not participating in the procession will proceed to the cemetery and assist with setting up the flags.\nProcession: Escort Provided\n\n\nFlags & Water:\nFlags will be provided\nIf you have large bike flags\, please bring them.\nWater will be provided.\n\nSTAGING #2 DETAILS: 07-09-19 \nStaging Time: 10:30 AM \nGlenwood Cemetery\n415 N Parkway Dr.\nAlvarado\, Texas 76009\n\n\nRide Captain: \nRick Crabb\nrandjcrabb@juno.com\n(910) 330-9861\n\nAsst: Rick Elliott\, rick.elliott@yahoo.com\, (214) 356-7535\n\n\nSpecial Instructions: \nStaging Time: 10:30\nIn Position/KSU Time: 10:45\nStarting Time: 11:00 Estimated\nThe Riders will establish the Flag Line.\nWhen directed\, the Riders will return the flags to the support vehicle\, be debriefed and dismissed.\n\n\nFlags & Water:\nFlags will be provided\nLarge Bike Flags will NOT be needed.\nWater will be provided.\n\n\n\nSubmitted By: Dan Mathys \nPosition: Texas Ride Captain \n\nNote: You do not have to own/ride a motorcycle or be a veteran to join\, and membership is Free. The only requirement is RESPECT! To subscribe to receive mission notices\, log into the National Site and click on the Members tab at the top. Select the Subscribe to PGR Missions option.\n Print This Page
URL:https://www.patriotguard.org/mission/david-lee-ware/
CATEGORIES:Honor Mission
END:VEVENT
END:VCALENDAR