BEGIN:VCALENDAR
VERSION:2.0
PRODID:-//Patriot Guard Riders - ECPv5.6.0//NONSGML v1.0//EN
CALSCALE:GREGORIAN
METHOD:PUBLISH
X-WR-CALNAME:Patriot Guard Riders
X-ORIGINAL-URL:https://www.patriotguard.org
X-WR-CALDESC:Events for Patriot Guard Riders
BEGIN:VTIMEZONE
TZID:America/New_York
BEGIN:DAYLIGHT
TZOFFSETFROM:-0500
TZOFFSETTO:-0400
TZNAME:EDT
DTSTART:20140309T070000
END:DAYLIGHT
BEGIN:STANDARD
TZOFFSETFROM:-0400
TZOFFSETTO:-0500
TZNAME:EST
DTSTART:20141102T060000
END:STANDARD
END:VTIMEZONE
BEGIN:VEVENT
DTSTART;TZID=America/New_York:20140909T090000
DTEND;TZID=America/New_York:20140909T110000
DTSTAMP:20210513T041239
CREATED:20140909T130000Z
LAST-MODIFIED:20191201T131911Z
UID:399624-1410253200-1410260400@www.patriotguard.org
SUMMARY:David Lee Hawn\, USA
DESCRIPTION:David Lee Hawn\, Staff Sergeant\nUnited States Army\n09 Sept 2014\nIola\, KS\n\n\nThe family of David Lee Hawn has requested that the Patriot Guard Riders man a flag line before the funeral and escort him to his final resting place in Girard\, Kansas on 09 Sept 14. \nSergeant Hawn served in the Korean War and was injured on a land mine while serving there.  His honors include National Defense Medal\, Korean Service Medal\, 2 Bronze service stars\, United Nations Service Medal\, the Bronze Star\, and Purple Heart.Services will take place at Waugh-Yokum and Friskel Funeral Chapel\, 16 N. Buckeye\, Iola\, Kansas at 10:00 am with a 66 mile escort to Girard Cemetery and grave side services to follow. \nStaging:\n0850 hrs. (8:50 am) – Kick Stands Up to leave for funeral home from Jump Start Travel Center\, 1700 East St\, Iola\, KS 66749 \n0900 hrs. (9:00 am) – Stage and set flags at Waugh-Yokum and Friskel Funeral Chapel\, 16 N. Buckeye\, Iola\, Kansas \n0930 hrs. (9:30 am) – Man flag line \n1015 hrs. (10:15 am) – Ride Briefing \n1100 hrs. (11:00 am) – Escort to Girard Cemetery 66 Miles\, please make sure flags are highway capable \n—\nThanks for all you do\, \nKevin (Scoop) Wagner\nPGR Ride Captain\nFort Scott\, KS\n620.215.2174\n​kwag@ckt.net​
URL:https://www.patriotguard.org/mission/david-lee-hawn-usa/
CATEGORIES:Archive
END:VEVENT
END:VCALENDAR