BEGIN:VCALENDAR
VERSION:2.0
PRODID:-//Patriot Guard Riders - ECPv5.6.0//NONSGML v1.0//EN
CALSCALE:GREGORIAN
METHOD:PUBLISH
X-WR-CALNAME:Patriot Guard Riders
X-ORIGINAL-URL:https://www.patriotguard.org
X-WR-CALDESC:Events for Patriot Guard Riders
BEGIN:VTIMEZONE
TZID:America/New_York
BEGIN:DAYLIGHT
TZOFFSETFROM:-0500
TZOFFSETTO:-0400
TZNAME:EDT
DTSTART:20160313T070000
END:DAYLIGHT
BEGIN:STANDARD
TZOFFSETFROM:-0400
TZOFFSETTO:-0500
TZNAME:EST
DTSTART:20161106T060000
END:STANDARD
END:VTIMEZONE
BEGIN:VEVENT
DTSTART;TZID=America/New_York:20160608T090000
DTEND;TZID=America/New_York:20160608T110000
DTSTAMP:20210513T135622
CREATED:20160608T130000Z
LAST-MODIFIED:20191201T145325Z
UID:411498-1465376400-1465383600@www.patriotguard.org
SUMMARY:David Lamar Jackson\, 62
DESCRIPTION:The Patriot Guard Riders have been invited to stand in honor at the Interment Service for David Lamar Jackson on Wednesday\, June 8\, 2016 at Fort Logan National Cemetery\, 3698 South Sheridan Blvd.\, Denver at 2:15 PM\, Pavilion C.\n\nMr. Jackson was born on May 29\, 1954 and died on June 2\, 2016 at the age of 62. He served in the US Navy from May 24\, 1976 until May 23\, 1980. \n1:30 PM – Stage at the Fort Logan Visitors Center\n1:45 PM – Mission Briefing\n2:00 PM – Depart for Pavilion C to form Flag Line. \nWill an available Ride Captain please post. \nI will be honored to attend and will bring Flags. \n—\nJim Herstein\njwherst@aol.com
URL:https://www.patriotguard.org/mission/david-lamar-jackson-62/
CATEGORIES:Archive
END:VEVENT
END:VCALENDAR