BEGIN:VCALENDAR
VERSION:2.0
PRODID:-//Patriot Guard Riders - ECPv5.3.2.1//NONSGML v1.0//EN
CALSCALE:GREGORIAN
METHOD:PUBLISH
X-WR-CALNAME:Patriot Guard Riders
X-ORIGINAL-URL:https://www.patriotguard.org
X-WR-CALDESC:Events for Patriot Guard Riders
BEGIN:VTIMEZONE
TZID:America/New_York
BEGIN:DAYLIGHT
TZOFFSETFROM:-0500
TZOFFSETTO:-0400
TZNAME:EDT
DTSTART:20180311T070000
END:DAYLIGHT
BEGIN:STANDARD
TZOFFSETFROM:-0400
TZOFFSETTO:-0500
TZNAME:EST
DTSTART:20181104T060000
END:STANDARD
END:VTIMEZONE
BEGIN:VEVENT
DTSTART;TZID=America/New_York:20180308T080000
DTEND;TZID=America/New_York:20180308T100000
DTSTAMP:20210401T190728
CREATED:20180308T130000Z
LAST-MODIFIED:20191201T032427Z
UID:328208-1520496000-1520503200@www.patriotguard.org
SUMMARY:David L. Brengard\, Veteran\, USMC - Vietnam
DESCRIPTION:Honor Mission \nDavid L. Brengard\, Veteran\nUSMC  – Vietnam\nSt. Louis\, Missouri – 08 Mar 2018\n\n\n[HR][/HR]\nABOUT THE MISSION: \n\nThe family of David Brengard has graciously invited the Patriot Guard Riders to honor their loved one at his funeral service on Friday\, 8 March 2018.  Mr. Brengard served our country in the U.S. Marine Corps from 1969 to 1971 as a disbursing clerk.  He was promoted to the rank of Corporal and awarded the National Defense Service Medal during his service. Please join in honoring this hero and thanking him for his dedicated service to our great country.\n\n\nPRIMARY STAGING DETAILS:  08 Mar 2018\nPrimary Staging Time: 0900 A.M. \n\nJefferson Barracks National Cemetery\n2900 Sheridan Rd.\nSt. Louis\, Missouri – 63129\n\n\nRide Captain: \n\nAlan (TheChief) Gann\n314.630.6628\nalangann@aol.com\n\n\nSpecial Instructions: \n\n0900: Stage w/ride mtg to follow\n0915: Arrival of family & friends\n0930: Military honors\n\n\nFlags & Water: \n\nFlags Will Be Provided\nIf you have large bike flags\, please bring them.\nWater WILL NOT be provided\, please bring your own.\n\nSubmitted By: Alan Gann\nPosition: Ride Captain\n[HR][/HR]Note:\nYou do not have to own/ride a motorcycle or be a Veteran to join and membership is Free. The only requirement is RESPECT! To join\, simply go to www.PatriotGuard.org and click on Register. Membership is Free. \nTo subscribe to receive mission notices\, log into the National Site and click on the Mission Tab at the top. Select the Subscribe to Missions option.
URL:https://www.patriotguard.org/mission/david-l-brengard-veteran-usmc-vietnam/
END:VEVENT
END:VCALENDAR