BEGIN:VCALENDAR
VERSION:2.0
PRODID:-//Patriot Guard Riders - ECPv5.3.2.1//NONSGML v1.0//EN
CALSCALE:GREGORIAN
METHOD:PUBLISH
X-WR-CALNAME:Patriot Guard Riders
X-ORIGINAL-URL:https://www.patriotguard.org
X-WR-CALDESC:Events for Patriot Guard Riders
BEGIN:VTIMEZONE
TZID:America/New_York
BEGIN:DAYLIGHT
TZOFFSETFROM:-0500
TZOFFSETTO:-0400
TZNAME:EDT
DTSTART:20150308T070000
END:DAYLIGHT
BEGIN:STANDARD
TZOFFSETFROM:-0400
TZOFFSETTO:-0500
TZNAME:EST
DTSTART:20151101T060000
END:STANDARD
END:VTIMEZONE
BEGIN:VEVENT
DTSTART;TZID=America/New_York:20150823T090000
DTEND;TZID=America/New_York:20150823T110000
DTSTAMP:20210404T151309
CREATED:20150823T130000Z
LAST-MODIFIED:20191201T124008Z
UID:392612-1440320400-1440327600@www.patriotguard.org
SUMMARY:David J. Brudzinski\, 53
DESCRIPTION:MSG David J. Brudzinski\, 53\nUS Army\n23 August 2015\n\n\n\nThe Patriot Guard Riders have the honor of being requested to stand a flag line in honor or MSG David J. Brudzinski\, 53\, US Army. He passed away on August 18 as a result of a fatal illness. He is suvived by his wife and many familly and friends and will be sorely missed by all.\nhttp://www.schimunekfuneralhomes.com/dm20/en_US/group/business/schimunekfuneralhomes/index.page?pagetype=memlist \nThis will be a Flag Line only mission for a visitation and memorial service on Sunday\, 23 August. We will rally at the following at 1:30pm: \nSchimunek Funeral Home\n610 W. McPhail Rd.\nBel Air\, Md 21014 \nRide Captain: Russ Burks\, Sr. 443-271-7126 \nWeather is forecasted to be partly cloudy with temps in the mid 80’s and 0% chance of precip. Dress appropriately and bring something to drink to stay hydrated. \nBill Staats\nMD & DC State Captain\nPatriot Guard Riders\n(410)404-2590
URL:https://www.patriotguard.org/mission/david-j-brudzinski-53/
CATEGORIES:Archive
END:VEVENT
END:VCALENDAR