BEGIN:VCALENDAR
VERSION:2.0
PRODID:-//Patriot Guard Riders - ECPv5.3.2.1//NONSGML v1.0//EN
CALSCALE:GREGORIAN
METHOD:PUBLISH
X-WR-CALNAME:Patriot Guard Riders
X-ORIGINAL-URL:https://www.patriotguard.org
X-WR-CALDESC:Events for Patriot Guard Riders
BEGIN:VTIMEZONE
TZID:America/New_York
BEGIN:DAYLIGHT
TZOFFSETFROM:-0500
TZOFFSETTO:-0400
TZNAME:EDT
DTSTART:20190310T070000
END:DAYLIGHT
BEGIN:STANDARD
TZOFFSETFROM:-0400
TZOFFSETTO:-0500
TZNAME:EST
DTSTART:20191103T060000
END:STANDARD
END:VTIMEZONE
BEGIN:VEVENT
DTSTART;VALUE=DATE:20190921
DTEND;VALUE=DATE:20190922
DTSTAMP:20210401T024655
CREATED:20190917T150315Z
LAST-MODIFIED:20190917T150315Z
UID:174520-1569024000-1569110399@www.patriotguard.org
SUMMARY:David Hudson
DESCRIPTION:Honor Mission\nDavid Hudson\, Veteran\nUSA –\nOwasso\, Oklahoma – 09-21-19\n\n\n\nABOUT THE MISSION: \nThe family of Mr Hudson\, USA Veteran has asked the PGR to stand a flag line at his services to be held at 11:00 A. M. We will perform military honors and present the PGR plaque and invocation letter. This will be a chapel service only.\n\n\nPRIMARY STAGING DETAILS: 09-21-19 \nStaging Time: 10:00 AM\n \nGreen Hill Funeral Home\n9901 Owasso Expwy\nOwasso\, Oklahoma 74055\n\n\nRide Captain: \nJerry Chiappini\ngchip@msn.com\n918-407-9718\n\n\nSpecial Instructions: \nStaging: 10:00 A.M.\nBriefing: 10:15 A.M.\nWeather: Low 72 High 91. Rain 20% Dress Accordingly\nHYDRATE HYDRATE.\n\n\nFlags & Water:\nFlags will be provided\nLarge Bike Flags will NOT be needed.\nWater WILL NOT be provided\, please bring your own.\n\n\n\nSubmitted By: Edmond Moseley \nPosition: Oklahoma Ride Captain \n\nNote: You do not have to own/ride a motorcycle or be a veteran to join\, and membership is Free. The only requirement is RESPECT! To subscribe to receive mission notices\, log into the National Site and click on the Members tab at the top. Select the Subscribe to PGR Missions option.\n Print This Page
URL:https://www.patriotguard.org/mission/david-hudson/
CATEGORIES:Honor Mission
END:VEVENT
END:VCALENDAR