BEGIN:VCALENDAR
VERSION:2.0
PRODID:-//Patriot Guard Riders - ECPv5.3.2.1//NONSGML v1.0//EN
CALSCALE:GREGORIAN
METHOD:PUBLISH
X-WR-CALNAME:Patriot Guard Riders
X-ORIGINAL-URL:https://www.patriotguard.org
X-WR-CALDESC:Events for Patriot Guard Riders
BEGIN:VTIMEZONE
TZID:America/New_York
BEGIN:DAYLIGHT
TZOFFSETFROM:-0500
TZOFFSETTO:-0400
TZNAME:EDT
DTSTART:20190310T070000
END:DAYLIGHT
BEGIN:STANDARD
TZOFFSETFROM:-0400
TZOFFSETTO:-0500
TZNAME:EST
DTSTART:20191103T060000
END:STANDARD
END:VTIMEZONE
BEGIN:VEVENT
DTSTART;VALUE=DATE:20190805
DTEND;VALUE=DATE:20190806
DTSTAMP:20210402T083251
CREATED:20190804T104538Z
LAST-MODIFIED:20190804T104653Z
UID:169747-1564963200-1565049599@www.patriotguard.org
SUMMARY:David H. Patterson
DESCRIPTION:Honor Mission\nDavid H. Patterson\, Veteran\nUSMC – Vietnam\nMayfield Heights\, Ohio – 08-05-19\n\n\n\nABOUT THE MISSION: \nObituary: http://tinyurl.com/y5ualzkh\n\n\nPRIMARY STAGING DETAILS: 08-05-19 \nStaging: 10:00 AM \nDiCicco & Sons Funeral Home\n5975 Mayfield Road\nMayfield Heights\, Ohio 44124\n\n\nRide Captain: \nMarykay Mendoza\nmkmendoza@yahoo.com\n\n\nSpecial Instructions: \nVisitation/Service\n          Please remember your 3’x5′ American Flags.\n\n\nFlags & Water:\nFlags will not be provided\nIf you have large bike flags\, please bring them.\nWater WILL NOT be provided\, please bring your own.\n\nSubmitted By: Robert Woods \nPosition: Ohio State Captain \n\nNote: You do not have to own/ride a motorcycle or be a veteran to join\, and membership is Free. The only requirement is RESPECT! To subscribe to receive mission notices\, log into the National Site and click on the Members tab at the top. Select the Subscribe to PGR Missions option.\n Print This Page
URL:https://www.patriotguard.org/mission/david-h-patterson/
CATEGORIES:Honor Mission
END:VEVENT
END:VCALENDAR