BEGIN:VCALENDAR
VERSION:2.0
PRODID:-//Patriot Guard Riders - ECPv5.3.2.1//NONSGML v1.0//EN
CALSCALE:GREGORIAN
METHOD:PUBLISH
X-WR-CALNAME:Patriot Guard Riders
X-ORIGINAL-URL:https://www.patriotguard.org
X-WR-CALDESC:Events for Patriot Guard Riders
BEGIN:VTIMEZONE
TZID:America/New_York
BEGIN:DAYLIGHT
TZOFFSETFROM:-0500
TZOFFSETTO:-0400
TZNAME:EDT
DTSTART:20190310T070000
END:DAYLIGHT
BEGIN:STANDARD
TZOFFSETFROM:-0400
TZOFFSETTO:-0500
TZNAME:EST
DTSTART:20191103T060000
END:STANDARD
END:VTIMEZONE
BEGIN:VEVENT
DTSTART;VALUE=DATE:20190827
DTEND;VALUE=DATE:20190828
DTSTAMP:20210402T150203
CREATED:20190821T222214Z
LAST-MODIFIED:20190821T222214Z
UID:171452-1566864000-1566950399@www.patriotguard.org
SUMMARY:David Eugene Molison
DESCRIPTION:Honor Mission\nDavid Eugene Molison\, Veteran\nUSN – Vietnam\nPhoenix\, Arizona – 08-27-19\n\n\n\n\nABOUT THE MISSION: \nDavid Eugene Molison was a United States Navy veteran. He proudly served his country in the US Navy from 1966 to 1969. After Basic Military training requirements and follow up training as a fireman and damage control man\, David was assigned to LST-1168 USS Wexford County for duration of his military service. USS Wexford participated in many exercises during this time and arrived in Vietnam in December 1967 for amphibious and landing exercises for the US Marines Corp. At least two more trips to Vietnam in 1968 were conducted before finally returning to San Diego in 1969. David Eugene Molison was released from active duty and honorably discharged in October 1969. While in the service of his country David Molison earned the Vietnam Service Medal\, National Defense Medal\, Vietnam Campaign Medal.\n\n\nPRIMARY STAGING DETAILS: 08-27-19 \nStaging Time: 9:30 AM  \nShadow Mountain Mortuary\n2350 E. Greenway Road\nPhoenix\, Arizona 85022\n\n\nRide Captain: \nTim Gentry\, 402-210-7857\ntgentry100@gmail.com\n\nLead Road Guard: Jim Anderson\n\n\nSpecial Instructions: \nCircle of Honor/ Briefing: 10:00 AM\nKSU to National Memorial Cemetery of Arizona: 10:15 AM\n\n\nFlags & Water:\nFlags will not be provided\nIf you have large bike flags\, please bring them.\nWater WILL NOT be provided\, please bring your own.\n\nSTAGING #2 DETAILS: 08-27-19 \nStaging Time: 10:45 AM  \nNational Memorial Cemetery of Arizona\n23029 Cave Creek Road\nPhoenix\, Arizona 85024\n\n\nRide Captain: \nTim Gentry\, 402-210-7857\n tgentry100@gmail.com\n\nFlag Captain: Karen\n\n\nSpecial Instructions: \nMeet Flag Captain at designated shelter\nFlag Line Set: 10:45 AM\nMilitary Honors: 11:00 AM\n\n\nFlags & Water:\nFlags will be provided\nLarge Bike Flags will NOT be needed.\nWater will be provided.\n\nSubmitted By: Mike Sullivan \nPosition: Arizona Assistant State Captain \n\nNote: You do not have to own/ride a motorcycle or be a veteran to join\, and membership is Free. The only requirement is RESPECT! To subscribe to receive mission notices\, log into the National Site and click on the Members tab at the top. Select the Subscribe to PGR Missions option.\n Print This Page
URL:https://www.patriotguard.org/mission/david-eugene-molison/
CATEGORIES:Honor Mission
END:VEVENT
END:VCALENDAR