BEGIN:VCALENDAR
VERSION:2.0
PRODID:-//Patriot Guard Riders - ECPv5.3.2.1//NONSGML v1.0//EN
CALSCALE:GREGORIAN
METHOD:PUBLISH
X-WR-CALNAME:Patriot Guard Riders
X-ORIGINAL-URL:https://www.patriotguard.org
X-WR-CALDESC:Events for Patriot Guard Riders
BEGIN:VTIMEZONE
TZID:America/New_York
BEGIN:DAYLIGHT
TZOFFSETFROM:-0500
TZOFFSETTO:-0400
TZNAME:EDT
DTSTART:20190310T070000
END:DAYLIGHT
BEGIN:STANDARD
TZOFFSETFROM:-0400
TZOFFSETTO:-0500
TZNAME:EST
DTSTART:20191103T060000
END:STANDARD
END:VTIMEZONE
BEGIN:VEVENT
DTSTART;VALUE=DATE:20190719
DTEND;VALUE=DATE:20190720
DTSTAMP:20210404T024708
CREATED:20190717T191612Z
LAST-MODIFIED:20190717T192220Z
UID:167999-1563494400-1563580799@www.patriotguard.org
SUMMARY:David Donovan
DESCRIPTION:Honor Mission\nDavid Donovan\n–\nMonticello\, Arkansas – 07-20-19\n\n\n\nABOUT THE MISSION: \nDavid worked in law enforcement\, Fire and EMS.\nObituary\n\n\nPRIMARY STAGING DETAILS: 07-20-19 \nStaging Time: 1:00 PM\n \nStephenson-Dearman Funeral Home\n943 US – 425\nMonticello\, Arkansas 71655\nMap\n\n\nRide Captain: \nBobby “REV” Franklin\nhogrider56@gmail.com\n318-332-7223\n\n\nSpecial Instructions: \nStaging: 1:00 pm.\nBriefing: 1:15 pm\nFlag line: 1:30 until services start at 2:00.\nWe will provide an escort to the cemetery and stand a flag line during the graveside services.\n\n\nFlags & Water:\nFlags will be provided\nIf you have large bike flags\, please bring them.\nWater will be provided.\n\n\n\nSubmitted By: Bobby Franklin \nPosition: \n\nNote: You do not have to own/ride a motorcycle or be a veteran to join\, and membership is Free. The only requirement is RESPECT! To subscribe to receive mission notices\, log into the National Site and click on the Members tab at the top. Select the Subscribe to PGR Missions option.\n Print This Page
URL:https://www.patriotguard.org/mission/david-donovan/
CATEGORIES:Honor Mission
END:VEVENT
END:VCALENDAR