BEGIN:VCALENDAR
VERSION:2.0
PRODID:-//Patriot Guard Riders - ECPv5.3.2.1//NONSGML v1.0//EN
CALSCALE:GREGORIAN
METHOD:PUBLISH
X-WR-CALNAME:Patriot Guard Riders
X-ORIGINAL-URL:https://www.patriotguard.org
X-WR-CALDESC:Events for Patriot Guard Riders
BEGIN:VTIMEZONE
TZID:America/New_York
BEGIN:DAYLIGHT
TZOFFSETFROM:-0500
TZOFFSETTO:-0400
TZNAME:EDT
DTSTART:20190310T070000
END:DAYLIGHT
BEGIN:STANDARD
TZOFFSETFROM:-0400
TZOFFSETTO:-0500
TZNAME:EST
DTSTART:20191103T060000
END:STANDARD
END:VTIMEZONE
BEGIN:VEVENT
DTSTART;VALUE=DATE:20190820
DTEND;VALUE=DATE:20190821
DTSTAMP:20210402T193146
CREATED:20190818T175238Z
LAST-MODIFIED:20190818T175238Z
UID:171188-1566259200-1566345599@www.patriotguard.org
SUMMARY:David Bruce Mac Nealy
DESCRIPTION:Honor Mission\nDavid Bruce Mac Nealy\, Veteran\nUSMC – GW/ODS\, WoT\nBaton Rouge\, Louisiana – 08-20-19\n\n\n\nABOUT THE MISSION: \nMr. Nealy served 25 years in the USMC\, retiring as a 1st Sgt. He was a Drill Instructor\, a Combat Veteran and served 3 tours in Southeast Asia. Mr. Nealy’s family has requested the Patriot Guard stand in honor of their loved one\, we are honored to do so. Mr. Nealy was also a Funeral Director at Greenoaks Funeral Home in Baton\, Rouge.\n\n\nPRIMARY STAGING DETAILS: 08-20-19 \nStaging Time: 10:30 AM\n \nGreenoaks Funeral Home\n9595 Florida Blvd.\nBaton Rouge\, Louisiana\n\n\nRide Captain: \nDoug Nobles\nnoblesdpug@gmail.com\n985-662-9818\n\n\nSpecial Instructions: \nStaging: 10:30 a.m.\nVisitation: 11:00 a.m.\nService: 12 noon\nWe will have LEO escort to Louisiana National Cemetery in Zachary\, La. immediately after the service.\nRC Sid Gale will be going over at 4:30 p.m. on Monday August 19\, to place flags for Monday evening visitation from 5 p.m. to 9 p.m. We will place flags only. Anyone available to help please do so.\nWe will stand a Flag Line on Tuesday morning.\n\n\nFlags & Water:\nFlags will be provided\nIf you have large bike flags\, please bring them.\nWater WILL NOT be provided\, please bring your own.\n\n\n\nSubmitted By: Doug Nobles \nPosition: Louisiana State Captain \n\nNote: You do not have to own/ride a motorcycle or be a veteran to join\, and membership is Free. The only requirement is RESPECT! To subscribe to receive mission notices\, log into the National Site and click on the Members tab at the top. Select the Subscribe to PGR Missions option.\n Print This Page
URL:https://www.patriotguard.org/mission/david-bruce-mac-nealy/
CATEGORIES:Honor Mission
END:VEVENT
END:VCALENDAR