BEGIN:VCALENDAR
VERSION:2.0
PRODID:-//Patriot Guard Riders - ECPv5.6.0//NONSGML v1.0//EN
CALSCALE:GREGORIAN
METHOD:PUBLISH
X-WR-CALNAME:Patriot Guard Riders
X-ORIGINAL-URL:https://www.patriotguard.org
X-WR-CALDESC:Events for Patriot Guard Riders
BEGIN:VTIMEZONE
TZID:America/New_York
BEGIN:DAYLIGHT
TZOFFSETFROM:-0500
TZOFFSETTO:-0400
TZNAME:EDT
DTSTART:20160313T070000
END:DAYLIGHT
BEGIN:STANDARD
TZOFFSETFROM:-0400
TZOFFSETTO:-0500
TZNAME:EST
DTSTART:20161106T060000
END:STANDARD
END:VTIMEZONE
BEGIN:VEVENT
DTSTART;TZID=America/New_York:20160628T090000
DTEND;TZID=America/New_York:20160628T110000
DTSTAMP:20210512T154143
CREATED:20160628T130000Z
LAST-MODIFIED:20191201T144909Z
UID:411112-1467104400-1467111600@www.patriotguard.org
SUMMARY:Dave Monson\, 92\, USA
DESCRIPTION:The family of Dave Monson has invited the Patriot Guard to stand a flag line in honor of his life and service to our country. \nDave passed away June 11 at the age of 92; he proudly served our country in the Army during WWII.  He is preceded in death by his parents\, 3 brothers and 1 sister and wife Marguerite of 64 years\, survived by his 3 sons\, 9 grandchildren and 6 great-grandchildren.   Dave was stationed in the South pacific where he was wounded in action and awarded the Purple Heart. After the war he attended St Olaf College and then worked for Nabisco and enjoyed coaching while his kids were in school. \nPlease join us as we stand in silent tribute to Honor his life and service to our country. \nWashburn McReavy Funeral Home\n5000 Hwy 100 & West 50th St\nEdina\, MN 55436 \n5:15 pm –  Stage \n5:45 pm. – Brief \n5:55 pm  –  Set Flag line \n6:00 pm  –  Visitation \n7:00 pm  –  Service \n7:10 pm  – approx. dismissal \nDismissal at RCIC’s discretion. \nThis is a rain or shine mission.  Please bring your 3×5 American Flag and anything else you may need for the duration of this mission. Please dress accordingly fir the weather. \nRCIC –  Rich Klugherz \nContact:\nMetroSW\nmetrosw@mnpatriotguard.org
URL:https://www.patriotguard.org/mission/dave-monson-92-usa/
CATEGORIES:Archive
END:VEVENT
END:VCALENDAR