BEGIN:VCALENDAR
VERSION:2.0
PRODID:-//Patriot Guard Riders - ECPv5.3.2.1//NONSGML v1.0//EN
CALSCALE:GREGORIAN
METHOD:PUBLISH
X-WR-CALNAME:Patriot Guard Riders
X-ORIGINAL-URL:https://www.patriotguard.org
X-WR-CALDESC:Events for Patriot Guard Riders
BEGIN:VTIMEZONE
TZID:America/New_York
BEGIN:DAYLIGHT
TZOFFSETFROM:-0500
TZOFFSETTO:-0400
TZNAME:EDT
DTSTART:20190310T070000
END:DAYLIGHT
BEGIN:STANDARD
TZOFFSETFROM:-0400
TZOFFSETTO:-0500
TZNAME:EST
DTSTART:20191103T060000
END:STANDARD
END:VTIMEZONE
BEGIN:VEVENT
DTSTART;VALUE=DATE:20190926
DTEND;VALUE=DATE:20190927
DTSTAMP:20210401T020027
CREATED:20190925T131920Z
LAST-MODIFIED:20190925T131920Z
UID:176567-1569456000-1569542399@www.patriotguard.org
SUMMARY:Darrell Darst
DESCRIPTION:Honor Mission\nDarrell Dars \, Veteran\nUSA – Vietnam\nMoberly\, Missouri  09-26-19\n\n\n\n\nABOUT THE MISSION: \nA proud Veteran\, Darrell served in the United States Army in the Vietnam War 1969-70 and received an honorable discharge in 1971 as a Specialist 5  .One of the highlights of Darrell’s career came during his tenure with the federal government where he was able to take part in the construction of the Cannon Dam.\n\n\nPRIMARY STAGING DETAILS: 09-26-19 \nStaging Time: 10:30 am\n \nCater Funeral Home\n1520 E Rollins St.\nMoberly\, Missouri 65270\n\n\nRide Captain: \nJohn. Summers\nsummers65286@gmail.com\n(660) 375-2457\n\n\nSpecial Instructions: \nStage: 10:30 am to stake flags.  Ride briefing.\nVisitation: 11:00 am-1:00 pm.\nService:  1:00 pm.  Escort immediately following service  to Jacksonville Veterans Cemetery\, Jacksonville\,Mo.  Military Honors will be conducted at the committal area. Time slot at JVC is 2:00pm.  Check weather conditions and dress accordingly.  Cages are always welcome!\n\nFlags & Water:\nFlags will be provided\nIf you have large bike flags\, please bring them.\nWater will be provided.\n\n\n\n\nSubmitted By: Bill Weldon \nPosition: Missouri Ride Captain \n\nNote: You do not have to own/ride a motorcycle or be a veteran to join\, and membership is Free. The only requirement is RESPECT! To subscribe to receive mission notices\, log into the National Site and click on the Members tab at the top. Select the Subscribe to PGR Missions option.\n Print This Page
URL:https://www.patriotguard.org/mission/darrell-darst/
CATEGORIES:Honor Mission
END:VEVENT
END:VCALENDAR