BEGIN:VCALENDAR
VERSION:2.0
PRODID:-//Patriot Guard Riders - ECPv5.3.2.1//NONSGML v1.0//EN
CALSCALE:GREGORIAN
METHOD:PUBLISH
X-WR-CALNAME:Patriot Guard Riders
X-ORIGINAL-URL:https://www.patriotguard.org
X-WR-CALDESC:Events for Patriot Guard Riders
BEGIN:VTIMEZONE
TZID:America/New_York
BEGIN:DAYLIGHT
TZOFFSETFROM:-0500
TZOFFSETTO:-0400
TZNAME:EDT
DTSTART:20190310T070000
END:DAYLIGHT
BEGIN:STANDARD
TZOFFSETFROM:-0400
TZOFFSETTO:-0500
TZNAME:EST
DTSTART:20191103T060000
END:STANDARD
END:VTIMEZONE
BEGIN:VEVENT
DTSTART;VALUE=DATE:20190912
DTEND;VALUE=DATE:20190913
DTSTAMP:20210401T093056
CREATED:20190910T143816Z
LAST-MODIFIED:20190910T143932Z
UID:173362-1568246400-1568332799@www.patriotguard.org
SUMMARY:Darrell Arthur Cusick
DESCRIPTION:Honor Mission\nDarrell Arthur Cusick\, Veteran\nUSMC \, USMCR – Korea\nMesa\, Arizona – 09-12-19\n\n\n\nABOUT THE MISSION: \nDarrell Arthur Cusick served honorably in the USMC. Darrell attained the rank of Staff Sergeant. Staff Sergeant Cusick fought for our freedom in Korea in the Hwachon area where he was wounded and received the Purple Heart Medal. In addition\, Darrell was awarded the following awards and commendations: Korean Service Medal with star; United Nations Ribbon; Good Conduct Medal (First and Second Award).\n\n\nPRIMARY STAGING DETAILS: 09-12-19 \nStaging Time: 12:00 pm\n \nMariposa Gardens Memorial Park and Funeral Care\n400 South Power Road\nMesa\, Arizona 85206\n\n\nRide Captain: \nDan Lazear\n480-223-8628\nazpgrdan@gmail.com\n\n\nSpecial Instructions: \nFlag Line Set: 12:30 P.M.\nHonors: 1:00 P.M.\nCircle of Honor: 1:15 PM following military honors\n\n\nFlags & Water:\nFlags will be provided\nIf you have large bike flags\, please bring them.\nWater will be provided.\n\nSubmitted By: Bill Wooster \nPosition: Arizona Assistant State Captain \n\nNote: You do not have to own/ride a motorcycle or be a veteran to join\, and membership is Free. The only requirement is RESPECT! To subscribe to receive mission notices\, log into the National Site and click on the Members tab at the top. Select the Subscribe to PGR Missions option.\n Print This Page
URL:https://www.patriotguard.org/mission/darrell-arthur-cusick/
CATEGORIES:Honor Mission
END:VEVENT
END:VCALENDAR