BEGIN:VCALENDAR
VERSION:2.0
PRODID:-//Patriot Guard Riders - ECPv5.3.2.1//NONSGML v1.0//EN
CALSCALE:GREGORIAN
METHOD:PUBLISH
X-WR-CALNAME:Patriot Guard Riders
X-ORIGINAL-URL:https://www.patriotguard.org
X-WR-CALDESC:Events for Patriot Guard Riders
BEGIN:VTIMEZONE
TZID:America/New_York
BEGIN:DAYLIGHT
TZOFFSETFROM:-0500
TZOFFSETTO:-0400
TZNAME:EDT
DTSTART:20190310T070000
END:DAYLIGHT
BEGIN:STANDARD
TZOFFSETFROM:-0400
TZOFFSETTO:-0500
TZNAME:EST
DTSTART:20191103T060000
END:STANDARD
END:VTIMEZONE
BEGIN:VEVENT
DTSTART;VALUE=DATE:20190802
DTEND;VALUE=DATE:20190804
DTSTAMP:20210402T110755
CREATED:20190731T013107Z
LAST-MODIFIED:20190731T014734Z
UID:169264-1564704000-1564876799@www.patriotguard.org
SUMMARY:Danny William Rudd
DESCRIPTION:Honor Mission\nDanny William Rudd\, Veteran\nUSA – LEO\, Korea\nMorrow\, Georgia – 08-02-19\n\n\n\n\nABOUT THE MISSION: \nThe Patriot Guard Riders have been asked to stand in honor of Danny William Rudd\, 87 USA Korean War veteran and we’ve informed them it will be our honor to do so. He served two years in the Korean War and upon getting out he became number 62 with Georgia State Patrol for 31 years.\n\n\nPRIMARY STAGING DETAILS: 08-02-19 \nStaging Time: 4:30 pm \nThomas Scruggs Funeral Home\n6362 S Lee Street\nMorrow\, Georgia 30260\n\n\nRide Captain: \nCarrie ” Hollywood” Poole\nemarjesick@aol.com\n(404) 787-7122\n\n\nSpecial Instructions: \nWe will stage at 4:30 pm and stand flag line for visitation 5-8 pm.\n\n\nFlags & Water:\nFlags will be provided\nLarge Bike Flags will NOT be needed.\nWater WILL NOT be provided\, please bring your own.\n\nSTAGING #2 DETAILS: 08-03-19 \nStaging Time: 09:45 am \nThomas Scruggs Funeral Home\n6362 S Lee Street\nMorrow\, Georgia 30260\n\n\nRide Captain: \nCarrie “Hollywood” Poole\nmarjesick@aol.com\n(404) 787-7122\n\n\nSpecial Instructions: \nWe will stand flag line from 10 AM until service starts at 11 am\, breakdown and prepare for escort to Forest Hill Memorial Park 722 Conley Rd Forest Park Ga 30297.\n\n\nFlags & Water:\nFlags will be provided\nIf you have large bike flags\, please bring them.\nWater WILL NOT be provided\, please bring your own.\n\n\n\nSubmitted By: Carrie Poole \nPosition: Georgia Ride Captain \n\nNote: You do not have to own/ride a motorcycle or be a veteran to join\, and membership is Free. The only requirement is RESPECT! To subscribe to receive mission notices\, log into the National Site and click on the Members tab at the top. Select the Subscribe to PGR Missions option.\n Print This Page
URL:https://www.patriotguard.org/mission/danny-william-rudd/
CATEGORIES:Honor Mission
END:VEVENT
END:VCALENDAR