BEGIN:VCALENDAR
VERSION:2.0
PRODID:-//Patriot Guard Riders - ECPv5.3.2.1//NONSGML v1.0//EN
CALSCALE:GREGORIAN
METHOD:PUBLISH
X-WR-CALNAME:Patriot Guard Riders
X-ORIGINAL-URL:https://www.patriotguard.org
X-WR-CALDESC:Events for Patriot Guard Riders
BEGIN:VTIMEZONE
TZID:America/New_York
BEGIN:DAYLIGHT
TZOFFSETFROM:-0500
TZOFFSETTO:-0400
TZNAME:EDT
DTSTART:20170312T070000
END:DAYLIGHT
BEGIN:STANDARD
TZOFFSETFROM:-0400
TZOFFSETTO:-0500
TZNAME:EST
DTSTART:20171105T060000
END:STANDARD
END:VTIMEZONE
BEGIN:VEVENT
DTSTART;TZID=America/New_York:20170901T150000
DTEND;TZID=America/New_York:20170901T170000
DTSTAMP:20210401T223154
CREATED:20170901T190000Z
LAST-MODIFIED:20191201T031947Z
UID:324598-1504278000-1504285200@www.patriotguard.org
SUMMARY:Danny Roy Fuller\, Veteran\, USMC - Vietnam
DESCRIPTION:Danny Roy Fuller\, Veteran\nUSMC  – Vietnam\nEros\, Louisiana – 01 Sep 2017\n\n[HR][/HR]\nABOUT THE MISSION: \n\nMr. Danny Roy Fuller from Eros\, La  was  born on Feb. 28\, 1944 and passed away on August 29\, 2017.  He was 73  years old.  Mr Fuller was a USMC veteran and had retired from the gas  company. \nMr.. Fuller served in the United States Marine Corps from Sept 6\, 1962  until Aug. 6\, 1968.  During his time on service he was deployed to  Vietnam. \nMr Fuller received The Vietnam Service Medal\, The Marine Corps Good Conduct Medal and The National Defense Medal.\n \n\nPRIMARY STAGING DETAILS:  01 Sep 2017\nPrimary Staging Time: 3:00 P.M. \n\nCommunity of Christ Church of Eros\n5791 LA 34\nEros\, Louisiana – 71238\nhttps://www.mapquest.com/directions/…/5791-la-34-32.\n\n\nRide Captain: \n\nTeri Smith\niamausmcmom@yahoo.com\n1-318-372-1579\n\n\nSpecial Instructions: \n\nStaging time will be at 3:00 p.m.\nMission Briefing at 3:15 p.m.\n\n\nFlags & Water: \n\nFlags Will Be Provided\nLarge Bike Flags will NOT be needed.\nWater will be provided.\n\n[HR][/HR]STAGING #2 DETAILS: 02 Sep\, 2017\nStaging #2 Time: 9:15 A.M. \n\nCommunity of Christ Church of Eros\n5791 LA 34\nEros\, Louisiana – 71238\n\n\nRide Captain: \n\nTeri Smith\niamausmcmom@yahoo.com\n1-318-372-1579\n\n\nSpecial Instructions: \n\nStaging time will be at 9:15 a.m.\nMission Briefing at 9:25 p.m. \nBurial will follow at this location:\nThere will be no Escort\n\n\nFlags & Water: \n\nFlags Will Be Provided\nLarge Bike Flags will NOT be needed\nWater will be provided.\n\n\nSubmitted By: Teri Smith\nPosition: Ride Captain\n[HR][/HR]Note:\nYou do not have to own/ride a motorcycle or be a Veteran to join and membership is Free. The only requirement is RESPECT! To join\, simply go to www.PatriotGuard.org and click on Register. Membership is Free. \nTo subscribe to receive mission notices\, log into the National Site and click on the Mission Tab at the top. Select the Subscribe to Missions option.
URL:https://www.patriotguard.org/mission/danny-roy-fuller-veteran-usmc-vietnam/
END:VEVENT
END:VCALENDAR