BEGIN:VCALENDAR
VERSION:2.0
PRODID:-//Patriot Guard Riders - ECPv5.3.2.1//NONSGML v1.0//EN
CALSCALE:GREGORIAN
METHOD:PUBLISH
X-WR-CALNAME:Patriot Guard Riders
X-ORIGINAL-URL:https://www.patriotguard.org
X-WR-CALDESC:Events for Patriot Guard Riders
BEGIN:VTIMEZONE
TZID:America/New_York
BEGIN:DAYLIGHT
TZOFFSETFROM:-0500
TZOFFSETTO:-0400
TZNAME:EDT
DTSTART:20190310T070000
END:DAYLIGHT
BEGIN:STANDARD
TZOFFSETFROM:-0400
TZOFFSETTO:-0500
TZNAME:EST
DTSTART:20191103T060000
END:STANDARD
END:VTIMEZONE
BEGIN:VEVENT
DTSTART;VALUE=DATE:20190608
DTEND;VALUE=DATE:20190609
DTSTAMP:20210405T001439
CREATED:20190607T045157Z
LAST-MODIFIED:20190607T045157Z
UID:163743-1559952000-1560038399@www.patriotguard.org
SUMMARY:Danny Ray Powers
DESCRIPTION:Honor Mission\nDanny Ray Powers\, Veteran\nUSMC\nJewett\, Texas – 06-08-19\n\n\n \n\nABOUT THE MISSION: \nMr. Powers volunteered in the United States Marines on April 20\, 1972 and spent 4 years in service to his country. His specialties were Structural Mechanic and Welder. His decorations include the National Defense Service Medal\, Good Conduct Medal and Rifle Sharpshooter. Obituary\n\n\nPRIMARY STAGING DETAILS: 06-08-19 \nStaging Time: 12:15 pm\n \nBowers Funeral Home\n814 Main St.\nJewett\, Texas 75846\nMap\n\n\nRide Captain: \nCliff Jordan\n936-687-4201\ncwjordan85@yahoo.com\n\n\nSpecial Instructions: \nRiders Meeting at 12:45 pm.\nDirections to the cemetery will be given by the Ride Captain.\nInterment will follow Service at Jewett City Cemetery.\nBIG FLAG BIKES REQUESTED FOR ESCORT\nPlease remain flexible as to the requirements of the mission.(SEMPER GUMBY)\n\nFlags & Water:\nFlags will be provided\nIf you have large bike flags\, please bring them.\nWater will be provided.\n\n\n\n\nSubmitted By: Michael Eubank \nPosition: Texas Deputy State Captain \n\nNote: You do not have to own/ride a motorcycle or be a veteran to join\, and membership is Free. The only requirement is RESPECT! To subscribe to receive mission notices\, log into the National Site and click on the Members tab at the top. Select the Subscribe to PGR Missions option.\n Print This Page
URL:https://www.patriotguard.org/mission/danny-ray-powers/
CATEGORIES:Honor Mission
END:VEVENT
END:VCALENDAR