BEGIN:VCALENDAR
VERSION:2.0
PRODID:-//Patriot Guard Riders - ECPv5.6.0//NONSGML v1.0//EN
CALSCALE:GREGORIAN
METHOD:PUBLISH
X-WR-CALNAME:Patriot Guard Riders
X-ORIGINAL-URL:https://www.patriotguard.org
X-WR-CALDESC:Events for Patriot Guard Riders
BEGIN:VTIMEZONE
TZID:America/New_York
BEGIN:DAYLIGHT
TZOFFSETFROM:-0500
TZOFFSETTO:-0400
TZNAME:EDT
DTSTART:20160313T070000
END:DAYLIGHT
BEGIN:STANDARD
TZOFFSETFROM:-0400
TZOFFSETTO:-0500
TZNAME:EST
DTSTART:20161106T060000
END:STANDARD
END:VTIMEZONE
BEGIN:VEVENT
DTSTART;TZID=America/New_York:20160607T090000
DTEND;TZID=America/New_York:20160607T110000
DTSTAMP:20210513T144210
CREATED:20160607T130000Z
LAST-MODIFIED:20191201T145349Z
UID:411535-1465290000-1465297200@www.patriotguard.org
SUMMARY:Danny Dwain Bright\, Sr.\, USN\, Korea / New Franklin
DESCRIPTION:The family of Danny Dwain Bright\, Sr. has requested the Patriot Guard Riders to stand in honor of their loved One.\nHe served his nation in the U.S. Navy during the Korean Conflict. Danny was a member of the American Legion and the V.F.W.\nServices honoring Danny’s life will be held at 1:00 p.m.\, Wednesday\, June 8\, 2016 at Markland-Yager Funeral Home\, 3855 Hwy. 5 North\, New Franklin\, Missouri.  Visitation will be Tuesday June 7\, 2016 in the evening from 6 pm (1800 hrs) to 8 pm (2000 hrs) at the funeral home. Burial with military honors will follow the service at Clarks Chapel Cemetery in Franklin\, Missouri. \nStage for Visitation: 5 pm (1700 hrs) June 7 at Markland-Yager Funeral Home\, 3855 Hwy. 5 North\, New Franklin\, Mo\nStage for Service: 12 Noon (1200 hrs) at the Funeral home \nRide Captain: Dave Wallingford\n1 (573) 569-1989
URL:https://www.patriotguard.org/mission/danny-dwain-bright-sr-usn-korea-new-franklin/
CATEGORIES:Archive
END:VEVENT
END:VCALENDAR