BEGIN:VCALENDAR
VERSION:2.0
PRODID:-//Patriot Guard Riders - ECPv5.3.2.1//NONSGML v1.0//EN
CALSCALE:GREGORIAN
METHOD:PUBLISH
X-WR-CALNAME:Patriot Guard Riders
X-ORIGINAL-URL:https://www.patriotguard.org
X-WR-CALDESC:Events for Patriot Guard Riders
BEGIN:VTIMEZONE
TZID:America/New_York
BEGIN:DAYLIGHT
TZOFFSETFROM:-0500
TZOFFSETTO:-0400
TZNAME:EDT
DTSTART:20160313T070000
END:DAYLIGHT
BEGIN:STANDARD
TZOFFSETFROM:-0400
TZOFFSETTO:-0500
TZNAME:EST
DTSTART:20161106T060000
END:STANDARD
END:VTIMEZONE
BEGIN:VEVENT
DTSTART;TZID=America/New_York:20161216T090000
DTEND;TZID=America/New_York:20161216T110000
DTSTAMP:20210405T220909
CREATED:20161216T140000Z
LAST-MODIFIED:20191201T140618Z
UID:407118-1481878800-1481886000@www.patriotguard.org
SUMMARY:Danny Coleman\, USA
DESCRIPTION:updated 15 DEC 16@1940est ArmySSG\n\nThe family of veteran Danny Coleman has  asked the Patriot Guard to stand in honor of his service to our great  country. Danny served in the Vietnam War\, earning two Bronze Stars\, he  was a Harley rider and played Santa Claus every year for local children. \nDate/time: 10:30 AM\, Friday\, 16 Dec\, 2016 \nRally time: 9:00 AM; briefing at 9:20 AM \nRally point: Twigg Funeral Home\n                    219 E Main\n                    Panora\, IA \nInterment: Iowa Veterans Cemetery\n                 Van Meter\, IA\n                 (12:30 PM; escort of 32 miles) \nBob Lohrman\nrclohrmanjr@gmail.com\n515-491-0817 \nPOC:  Steve Cox\nsdc4098@yahoo.com \n\n****************************** \nThe family of veteran Danny Coleman has asked the Patriot Guard to stand in honor of his service to our great country. Danny served in the Vietnam War\, earning two Bronze Stars\, he was a Harley rider and played Santa Claus every year for local children. \nDate/time: 10:30 AM\, Friday\, 16 Dec\, 2016 \nRally time: 9:00 AM; briefing at 9:20 AM \nRally point: Twigg Funeral Home\n                    219 E Main\n                    Panora\, IA \nInterment: Iowa Veterans Cemetery\n                 Van Meter\, IA\n                 (12:30 PM; escort of 32 miles) \nRC: TBA \nPOC:  Steve Cox\nsdc4098@yahoo.com
URL:https://www.patriotguard.org/mission/danny-coleman-usa/
CATEGORIES:Archive
END:VEVENT
END:VCALENDAR