BEGIN:VCALENDAR
VERSION:2.0
PRODID:-//Patriot Guard Riders - ECPv5.3.2.1//NONSGML v1.0//EN
CALSCALE:GREGORIAN
METHOD:PUBLISH
X-WR-CALNAME:Patriot Guard Riders
X-ORIGINAL-URL:https://www.patriotguard.org
X-WR-CALDESC:Events for Patriot Guard Riders
BEGIN:VTIMEZONE
TZID:America/New_York
BEGIN:DAYLIGHT
TZOFFSETFROM:-0500
TZOFFSETTO:-0400
TZNAME:EDT
DTSTART:20190310T070000
END:DAYLIGHT
BEGIN:STANDARD
TZOFFSETFROM:-0400
TZOFFSETTO:-0500
TZNAME:EST
DTSTART:20191103T060000
END:STANDARD
END:VTIMEZONE
BEGIN:VEVENT
DTSTART;VALUE=DATE:20190619
DTEND;VALUE=DATE:20190620
DTSTAMP:20210405T021604
CREATED:20190616T204226Z
LAST-MODIFIED:20190616T204226Z
UID:164890-1560902400-1560988799@www.patriotguard.org
SUMMARY:Danny Black
DESCRIPTION:Honor Mission\nDanny Black\, Veteran\nUSMC – Vietnam\nPlatte City\, Missouri – 06-19-19\n\n\n\n\nABOUT THE MISSION: \nThe family of Danny Black has invited the PGR to stand in honor and respect of their hero.\n\n\nPRIMARY STAGING DETAILS: 06-19-19 \nStaging Time: 9:45 a.m.  \nChurch of Latter Day Saints\n2700 Ensign Dr.\nPlatte City\, Missouri\n\n\nRide Captain: \nJon David\, 225-266-9979\, jon_bearrrr@yahoo.com\n\n\nSpecial Instructions: \nWe will stage and set flags\, meet and prepare to stand for this hero.  The service will start at 1130 am\, afterwards we will escort the family to the Leavenworth National Cemetery\, 150 Muncie Rd\, Leavenworth\, KS for the graveside ceremony.\n\n\nFlags & Water:\nFlags will be provided\nIf you have large bike flags\, please bring them.\nWater WILL NOT be provided\, please bring your own.\n\n\nSubmitted By: Jon David \nPosition: Missouri Ride Captain\n\n\nNote: You do not have to own/ride a motorcycle or be a veteran to join\, and membership is Free. The only requirement is RESPECT! To subscribe to receive mission notices\, log into the National Site and click on the Members tab at the top. Select the Subscribe to PGR Missions option.\n Print This Page
URL:https://www.patriotguard.org/mission/danny-black/
CATEGORIES:Honor Mission
END:VEVENT
END:VCALENDAR