BEGIN:VCALENDAR
VERSION:2.0
PRODID:-//Patriot Guard Riders - ECPv5.3.2.1//NONSGML v1.0//EN
CALSCALE:GREGORIAN
METHOD:PUBLISH
X-WR-CALNAME:Patriot Guard Riders
X-ORIGINAL-URL:https://www.patriotguard.org
X-WR-CALDESC:Events for Patriot Guard Riders
BEGIN:VTIMEZONE
TZID:America/New_York
BEGIN:DAYLIGHT
TZOFFSETFROM:-0500
TZOFFSETTO:-0400
TZNAME:EDT
DTSTART:20190310T070000
END:DAYLIGHT
BEGIN:STANDARD
TZOFFSETFROM:-0400
TZOFFSETTO:-0500
TZNAME:EST
DTSTART:20191103T060000
END:STANDARD
END:VTIMEZONE
BEGIN:VEVENT
DTSTART;VALUE=DATE:20190714
DTEND;VALUE=DATE:20190715
DTSTAMP:20210404T040256
CREATED:20190711T115547Z
LAST-MODIFIED:20190711T115547Z
UID:167270-1563062400-1563148799@www.patriotguard.org
SUMMARY:Danielle Lelanya Lawson
DESCRIPTION:Honor Mission\nDanielle Lelanya Lawson\nUSA –\nFayetteville\, North Carolina – 07-14-19\n\n\n\nABOUT THE MISSION: \nSSG Lawson was stationed at Fort Bragg upon at her time of discharge from the Army. She was enlisted for over 8 years with almost 2 years of that stationed in Afghanistan. During her enlistment\, she earned several medals and accommodations: Afghanistan Campaign Medal W/ Campaign Star\, Army Commendation Medal (2nd Award)\, Army Achievement Medal (2nd award)\, Meritorious Unit Commendation\, Army Good Conduct Medal (2nd Award)\, National Defence Service Medal\, Global War On Terrorism Service Medal\, Professional Development Ribbon (2nd Award)\, Army Service Ribbon\, Overseas Service Ribbon (2nd Award)\, Military Outstanding Volunteer Service Medal\, NATO Medal\, Combat Action Badge\, Parachutist. SSG Lawson is survived by her 3 children\, Sister\, and her loving Grandparents.\n\n\nPRIMARY STAGING DETAILS: 07-14-19 \nStaging Time: 1:00 PM\n \nJernigan-Warren Funeral Home\n545 Ramsey Street\nFayetteville\, North Carolina 28301\n\n\nRide Captain: \nSteve “scooper” Havens\n919-793-7296\nkodakracing@yahoo.com\n\n\nSpecial Instructions: \nStaging: 1:00pm\nBriefing: 1:20pm\nFlag Line: 2:00pm to 3:00pm\nStand Down: 3:00pm (Start of service)\nWe Will Stage in the back of the parking lot Allow extra travel time due to a large amount of road construction and detours.\n\n\nFlags & Water:\nFlags will be provided\nLarge Bike Flags will NOT be needed.\nWater will be provided.\n\n\n\nSubmitted By: Steve Havens \nPosition: North Carolina Ride Captain \n\nNote: You do not have to own/ride a motorcycle or be a veteran to join\, and membership is Free. The only requirement is RESPECT! To subscribe to receive mission notices\, log into the National Site and click on the Members tab at the top. Select the Subscribe to PGR Missions option.\n Print This Page
URL:https://www.patriotguard.org/mission/danielle-lelanya-lawson/
CATEGORIES:Honor Mission
END:VEVENT
END:VCALENDAR