BEGIN:VCALENDAR
VERSION:2.0
PRODID:-//Patriot Guard Riders - ECPv5.6.0//NONSGML v1.0//EN
CALSCALE:GREGORIAN
METHOD:PUBLISH
X-WR-CALNAME:Patriot Guard Riders
X-ORIGINAL-URL:https://www.patriotguard.org
X-WR-CALDESC:Events for Patriot Guard Riders
BEGIN:VTIMEZONE
TZID:America/New_York
BEGIN:DAYLIGHT
TZOFFSETFROM:-0500
TZOFFSETTO:-0400
TZNAME:EDT
DTSTART:20160313T070000
END:DAYLIGHT
BEGIN:STANDARD
TZOFFSETFROM:-0400
TZOFFSETTO:-0500
TZNAME:EST
DTSTART:20161106T060000
END:STANDARD
END:VTIMEZONE
BEGIN:VEVENT
DTSTART;TZID=America/New_York:20160709T090000
DTEND;TZID=America/New_York:20160709T110000
DTSTAMP:20210512T145015
CREATED:20160709T130000Z
LAST-MODIFIED:20191201T144614Z
UID:410848-1468054800-1468062000@www.patriotguard.org
SUMMARY:Daniel Phillip Gudino\, 25\, USN\, Veteran / Victorville
DESCRIPTION:Daniel Phillip Gudino\, 25\, USN\, Victorville / Hesperia\, Saturday\, 09 July 16 \nThe family of Daniel Gudino has requested the presence of the Patriot Guard when they honor their hero on 09 July 2016. We will be honored. \nDaniel served in the US Navy from March 2010 to July 2015 as a BMSM aboard the USS Doyle out of Norfolk\, VA. He was active in the deployment of the RHIB in over 50 boat evolutions leading to the seizure of over 590 kilograms of narcotics during counter illicit trafficking operations. He also earned the NEY award for the Doyle.\nDaniel was a standout wrestler and placed in the California finals. He was an MMA fighter and actor with a role in the movie Hand and Honor. \nDaniel is survived by his wife\, Megumi\, his son\, his father and mother. He also leaves behind three sisters and their families. \nA celebration of life is planned\, there will be no interment\, the Hero’s urn will return home with the family. \nNOTE: This mission posting is to facilitate your voluntary participation in honoring this Military Veteran. For those interested\, and all are welcome\, we will be accompanying the hero and his family from the family residence to the location of his Celebration of Life. Please see the time table if you would like to participate. For those who would rather go directly to the event venue\, we will meet you there. \nTime table for Saturday\, 09 JUL 16: \n1645: Stage.\nChevron Station\n15320 Bear Valley Rd.\nVictorville\, CA\nhttps://goo.gl/maps/tUHM4pfGJFJ2 \n1715: Briefing \n1725: KSU (.5 mile) to family residence. \n1730: Flag Line for transfer of Hero to family car. \n1735: KSU (6.5 miles). Accompany Family and Hero to\nVictor Valley Moose Lodge\n10230 E Avenue\nHesperia\, CA\nhttps://goo.gl/maps/x6zYYfQxJDr \n1745: Flag Line for transfer of Hero to building and Military Honors \nR/C Billy (Billyjean) Morgan\nBillyjean10@verizon.net\n949-939-7282 \nYou do not have to be a Veteran or a motorcycle rider to attend this mission. Everyone is welcome. We encourage those who do not ride to attend in your car. If this will be your first mission go to the initial staging area and you will be briefed there by the R/C (Ride Captain).  Dress for motorcycle riding or dress casually if you are driving a cage (car).  Please feel free to attend any portion of this mission you can.
URL:https://www.patriotguard.org/mission/daniel-phillip-gudino-25-usn-veteran-victorville/
CATEGORIES:Archive
END:VEVENT
END:VCALENDAR