BEGIN:VCALENDAR
VERSION:2.0
PRODID:-//Patriot Guard Riders - ECPv5.6.0//NONSGML v1.0//EN
CALSCALE:GREGORIAN
METHOD:PUBLISH
X-WR-CALNAME:Patriot Guard Riders
X-ORIGINAL-URL:https://www.patriotguard.org
X-WR-CALDESC:Events for Patriot Guard Riders
BEGIN:VTIMEZONE
TZID:America/New_York
BEGIN:DAYLIGHT
TZOFFSETFROM:-0500
TZOFFSETTO:-0400
TZNAME:EDT
DTSTART:20160313T070000
END:DAYLIGHT
BEGIN:STANDARD
TZOFFSETFROM:-0400
TZOFFSETTO:-0500
TZNAME:EST
DTSTART:20161106T060000
END:STANDARD
END:VTIMEZONE
BEGIN:VEVENT
DTSTART;TZID=America/New_York:20160609T090000
DTEND;TZID=America/New_York:20160609T110000
DTSTAMP:20210513T175117
CREATED:20160609T130000Z
LAST-MODIFIED:20191201T145329Z
UID:411506-1465462800-1465470000@www.patriotguard.org
SUMMARY:Daniel P. Hough III\, 64\, USA
DESCRIPTION:Daniel P. Hough III\, 64\nUS Army Vietnam Veteran\nSt. Charles\, MO\n9 June 16\n\n\n\nThe family of Daniel Hough III\, 64\, has honored the Patriot Guard by requesting our presence at the celebration of life and the escort of their loved one to the Hallowed Grounds of Jefferson Barracks National Cemetery. \nMr Hough served our great nation in the U.S. Army during the Vietnam War earning the National Defense Service Medal\, Vietnam Service Medal\, Vietnam Campaign Medal\, Army Commendation Medal\, Good Conduct Medal\, Purple Heart Medal\, Bronze Star Medal and M16 Marksman Badge along with numerous other awards\, commendations and decorations. \nhttp://www.stygar.com/memsol.cgi?user_id=1806253 \nStaging: 10.15 A.M. Thursday June 9\nStygar Mid Rivers Funeral Home and Crematory\n5987 Mid Rivers Mall Dr.\nSt. Charles MO 63304 \nEscort to the Hallowed Grounds of Jefferson Barracks National Cemetery following services. \nSRC Robert Smith\nbobsmithesq4@gmail.com \nFlag Support Stygar\nDennis Kluge \nFlag Support J.B.N.C\nJim Jarzenbeck \nTemperatures projected to be a high of 90* and sunny\, Hydrate fully BEFORE attending\, Morning coffee is NOT hydrating. Carry water on your bike\, Dress wisely. HYDRATE   HYDRATE   HYDRATE
URL:https://www.patriotguard.org/mission/daniel-p-hough-iii-64-usa/
CATEGORIES:Archive
END:VEVENT
END:VCALENDAR