BEGIN:VCALENDAR
VERSION:2.0
PRODID:-//Patriot Guard Riders - ECPv5.3.2.1//NONSGML v1.0//EN
CALSCALE:GREGORIAN
METHOD:PUBLISH
X-WR-CALNAME:Patriot Guard Riders
X-ORIGINAL-URL:https://www.patriotguard.org
X-WR-CALDESC:Events for Patriot Guard Riders
BEGIN:VTIMEZONE
TZID:America/New_York
BEGIN:DAYLIGHT
TZOFFSETFROM:-0500
TZOFFSETTO:-0400
TZNAME:EDT
DTSTART:20190310T070000
END:DAYLIGHT
BEGIN:STANDARD
TZOFFSETFROM:-0400
TZOFFSETTO:-0500
TZNAME:EST
DTSTART:20191103T060000
END:STANDARD
END:VTIMEZONE
BEGIN:VEVENT
DTSTART;VALUE=DATE:20190713
DTEND;VALUE=DATE:20190714
DTSTAMP:20210404T054844
CREATED:20190711T113701Z
LAST-MODIFIED:20190711T113701Z
UID:167043-1562976000-1563062399@www.patriotguard.org
SUMMARY:Daniel Mack Andrews
DESCRIPTION:Honor Mission\nDaniel Mack Andrews\nUSA \, USAR –\nSparta\, North Carolina – 07-13-19\n\n\n\nABOUT THE MISSION: \nMr Andrews served in the US Army from July 1969 to Sept. 1969. US Army Reserves from Sept 1969 until honorably discharged in March 1975. He earned the National Defense Service and the Sharpshooter (Rifle) Medals. We will escort Mr. Andrews and his family to the Church for services\, and then to the cemetery where we will form a flag line for his internment with military honors.\n\n\nPRIMARY STAGING DETAILS: 07-13-19 \nStaging Time: 10:00 AM\n \nAlleghany County Offices\n348 S. Main St\nSparta\, North Carolina 28675\nMap\n\n\nRide Captain: \nBenny Hayslett\n704-477-5015\nbh241@carolina.rr.com\n\n\nSpecial Instructions: \nBriefing: 10:15am\nKSU: 10:30 am\n\n\nFlags & Water:\nFlags will be provided\nIf you have large bike flags\, please bring them.\nWater WILL NOT be provided\, please bring your own.\n\nSTAGING #2 DETAILS: 07-13-19 \nStaging Time: 12:00 PM\n \nNew Salem Baptist Church\nPine Swamp Road\nSparta\, North Carolina 28675\nMap\n\n\nRide Captain: \nBenny Hayslett\n704-477-5015\nbh241@carolina.rr.com\n\n\nSpecial Instructions: \nRide Briefing: 11:45 AM\nKSU: 12:00 PM Noon\nEscort to the family cemetery approximately 1/2 mile where we will form a flag line for the burial with military honors. All roads are paved.\n\n\nFlags & Water:\nFlags will be provided\nIf you have large bike flags\, please bring them.\nWater WILL NOT be provided\, please bring your own.\n\n\n\nSubmitted By: Benny Hayslett \nPosition: North Carolina Ride Captain \n\nNote: You do not have to own/ride a motorcycle or be a veteran to join\, and membership is Free. The only requirement is RESPECT! To subscribe to receive mission notices\, log into the National Site and click on the Members tab at the top. Select the Subscribe to PGR Missions option.\n Print This Page
URL:https://www.patriotguard.org/mission/daniel-mack-andrews/
CATEGORIES:Honor Mission
END:VEVENT
END:VCALENDAR