BEGIN:VCALENDAR
VERSION:2.0
PRODID:-//Patriot Guard Riders - ECPv5.3.2.1//NONSGML v1.0//EN
CALSCALE:GREGORIAN
METHOD:PUBLISH
X-WR-CALNAME:Patriot Guard Riders
X-ORIGINAL-URL:https://www.patriotguard.org
X-WR-CALDESC:Events for Patriot Guard Riders
BEGIN:VTIMEZONE
TZID:America/New_York
BEGIN:DAYLIGHT
TZOFFSETFROM:-0500
TZOFFSETTO:-0400
TZNAME:EDT
DTSTART:20190310T070000
END:DAYLIGHT
BEGIN:STANDARD
TZOFFSETFROM:-0400
TZOFFSETTO:-0500
TZNAME:EST
DTSTART:20191103T060000
END:STANDARD
END:VTIMEZONE
BEGIN:VEVENT
DTSTART;VALUE=DATE:20190228
DTEND;VALUE=DATE:20190301
DTSTAMP:20210401T154737
CREATED:20190228T053515Z
LAST-MODIFIED:20190228T053618Z
UID:151638-1551312000-1551398399@www.patriotguard.org
SUMMARY:Daniel L. Smith
DESCRIPTION:Honor Mission\nDaniel L. Smith\, Active Duty\nUSA\, ARNG – GW/ODS\, WoT\nWaynesville\, North Carolina – 02-28-19\n\n\n\n\nABOUT THE MISSION: \nWe have been asked by the family of SFC Daniel L Smith to stand in Honor of his service to our great country. SFC Smith’s awards include Kuwait Liberation Medal (Saudi Arabia)\, Army Commendation Medal\, USMC Good Conduct Medal\, Army Reserve Component Achievement Medal (4th award)\, National Defense Service Medal w/ Bronze Service Star\, Southwest Asia Service Medal w/ 2 Bronze Stars\, Global War on Terrorism Expeditionary Medal\, Global War on Terrorism Service Medal\, Non-Commissioned officer Professional Development Ribbon (2nd award)\, Army Service Ribbon\, Army Reserve Component Overseas Training. SFC Smith recently returned from active duty in support of Operation Enduring Freedom in Guantanamo Bay Cuba. Danny enjoyed spending time with his grandchildren\n\n\nPRIMARY STAGING DETAILS: 02-28-19 \nStaging Time: 09:45 AM\n \nWells Funeral Home\n296 N Main St\nWaynesville\, North Carolina 28786\n\n  \n\nSubmitted By: Robert Downs \nPosition: North Carolina Assistant State Captain \n\nNote: You do not have to own/ride a motorcycle or be a veteran to join\, and membership is Free. The only requirement is RESPECT! To subscribe to receive mission notices\, log into the National Site and click on the Members tab at the top. Select the Subscribe to PGR Missions option.\n Print This Page
URL:https://www.patriotguard.org/mission/daniel-l-smith/
CATEGORIES:Honor Mission
END:VEVENT
END:VCALENDAR