BEGIN:VCALENDAR
VERSION:2.0
PRODID:-//Patriot Guard Riders - ECPv5.3.2.1//NONSGML v1.0//EN
CALSCALE:GREGORIAN
METHOD:PUBLISH
X-WR-CALNAME:Patriot Guard Riders
X-ORIGINAL-URL:https://www.patriotguard.org
X-WR-CALDESC:Events for Patriot Guard Riders
BEGIN:VTIMEZONE
TZID:America/New_York
BEGIN:DAYLIGHT
TZOFFSETFROM:-0500
TZOFFSETTO:-0400
TZNAME:EDT
DTSTART:20190310T070000
END:DAYLIGHT
BEGIN:STANDARD
TZOFFSETFROM:-0400
TZOFFSETTO:-0500
TZNAME:EST
DTSTART:20191103T060000
END:STANDARD
END:VTIMEZONE
BEGIN:VEVENT
DTSTART;VALUE=DATE:20190730
DTEND;VALUE=DATE:20190731
DTSTAMP:20210402T084229
CREATED:20190729T014315Z
LAST-MODIFIED:20190729T014315Z
UID:169038-1564444800-1564531199@www.patriotguard.org
SUMMARY:Daniel L. Gonzalez
DESCRIPTION:Honor Mission\nDaniel L. Gonzalez\, Veteran\nUSA\, USAR –\nAvondale\, Arizona – 07-30-19\n\n\n\nABOUT THE MISSION: \nDaniel Gonzales was a United States Army Veteran. Daniel attended Helicopter Mechanic School at Gary Air Force Base in San Marcos\, Texas and was transferred to the United States Army Reserve following his Active Duty.\n\n\nPRIMARY STAGING DETAILS: 07-30-19 \nStaging Time: 11:30 AM\n \nHoly Cross Cemetery\n10001 W Thomas Rd\nAvondale\, Arizona 85392\n\n\nRide Captain: \nTom Burns\ntgburns55@hotmail.com\n\nFlag Captain- Gary Ogle\n\n\nSpecial Instructions: \nFlag Line in place for arrival of Hero at 12:15 pm.\nMilitary Honors: 12:30 approx.\n\n\nFlags & Water:\nFlags will be provided\nLarge Bike Flags will NOT be needed.\nWater will be provided.\n\n\n\nSubmitted By: Tom Burns \nPosition: Arizona State Captain \n\nNote: You do not have to own/ride a motorcycle or be a veteran to join\, and membership is Free. The only requirement is RESPECT! To subscribe to receive mission notices\, log into the National Site and click on the Members tab at the top. Select the Subscribe to PGR Missions option.\n Print This Page
URL:https://www.patriotguard.org/mission/daniel-l-gonzalez/
CATEGORIES:Honor Mission
END:VEVENT
END:VCALENDAR