BEGIN:VCALENDAR
VERSION:2.0
PRODID:-//Patriot Guard Riders - ECPv5.6.0//NONSGML v1.0//EN
CALSCALE:GREGORIAN
METHOD:PUBLISH
X-WR-CALNAME:Patriot Guard Riders
X-ORIGINAL-URL:https://www.patriotguard.org
X-WR-CALDESC:Events for Patriot Guard Riders
BEGIN:VTIMEZONE
TZID:America/New_York
BEGIN:DAYLIGHT
TZOFFSETFROM:-0500
TZOFFSETTO:-0400
TZNAME:EDT
DTSTART:20160313T070000
END:DAYLIGHT
BEGIN:STANDARD
TZOFFSETFROM:-0400
TZOFFSETTO:-0500
TZNAME:EST
DTSTART:20161106T060000
END:STANDARD
END:VTIMEZONE
BEGIN:VEVENT
DTSTART;TZID=America/New_York:20160714T090000
DTEND;TZID=America/New_York:20160714T110000
DTSTAMP:20210512T170809
CREATED:20160714T130000Z
LAST-MODIFIED:20191201T144423Z
UID:410677-1468486800-1468494000@www.patriotguard.org
SUMMARY:Daniel L. Fisher\, USA\, Gulf Veteran / Harrisburg
DESCRIPTION:Daniel L. Fisher\nUS Army ODS Veteran\nHarrisburg / Indiantown Gap\, PA\n14 JUL 2016\n\n\n\nThe family of Gulf War Army Veteran Daniel Lawrence Fisher has requested the Patriot Guard Riders stand to honor his service to our nation at his funeral\, escort\, and interment Thursday\, July 14th.  Daniel served in Operation Desert Storm.  Following in his father’s footsteps\, Daniel’s son is active duty Army. \nFollowing a funeral service in Harrisburg\, we will escort Daniel to Indiantown Gap National Cemetery for interment with full honors.  Daniel Fisher is a patriot who served our country with honor and now it’s our turn to stand and honor him. \nFUNERAL & ESCORT: VIEWING 1000 HRS\, FUNERAL 1100 HRS \nZimmerman-Auer Funeral Home\n4100 Jonestown Road\nHarrisburg\, PA 17109\nMAP: https://goo.gl/maps/M33QKTDdi4x \nStage:  0930 HRS\, at the funeral home \nINTERMENT:  1300 HRS \nIndiantown Gap National Cemetery\nMAP: https://goo.gl/maps/Q5Rje \nIf going directly to IGNC\, stage at the upper parking lot opposite the rear of the PA Memorial\, (turn left at the US Flag Circle). Stage at 1230 HRS \nDO NOT PROCEED TO COMMITTAL SITE WITHOUT PERMISSION. \nNOTE:  Concealed carry permits are NOT recognized on military installations and federal reservations. Indiantown Gap National Cemetery is a federal reservation. Do not bring weapons or hazardous materials to this mission. \nRCIC:  TBA \nMission inquiries:\nDale McGinnis\npgrpa.vetrep.east@gmail.com\n717-887-4679
URL:https://www.patriotguard.org/mission/daniel-l-fisher-usa-gulf-veteran-harrisburg/
CATEGORIES:Archive
END:VEVENT
END:VCALENDAR