BEGIN:VCALENDAR
VERSION:2.0
PRODID:-//Patriot Guard Riders - ECPv5.3.2.1//NONSGML v1.0//EN
CALSCALE:GREGORIAN
METHOD:PUBLISH
X-WR-CALNAME:Patriot Guard Riders
X-ORIGINAL-URL:https://www.patriotguard.org
X-WR-CALDESC:Events for Patriot Guard Riders
BEGIN:VTIMEZONE
TZID:America/New_York
BEGIN:DAYLIGHT
TZOFFSETFROM:-0500
TZOFFSETTO:-0400
TZNAME:EDT
DTSTART:20190310T070000
END:DAYLIGHT
BEGIN:STANDARD
TZOFFSETFROM:-0400
TZOFFSETTO:-0500
TZNAME:EST
DTSTART:20191103T060000
END:STANDARD
END:VTIMEZONE
BEGIN:VEVENT
DTSTART;VALUE=DATE:20190717
DTEND;VALUE=DATE:20190718
DTSTAMP:20210403T182437
CREATED:20190717T010615Z
LAST-MODIFIED:20190717T010615Z
UID:167765-1563321600-1563407999@www.patriotguard.org
SUMMARY:Daniel Dewitt Godby
DESCRIPTION:Honor Mission\nDaniel Dewitt Godby\, Veteran\nUSA\, USAR – WWII\nBrandon\, Mississippi – 07-17-19\n\n\n\nABOUT THE MISSION: \nMr. Godby proudly and honorably served in U.S. Army from 1946 to 1947. He was awarded the World War II Victory Medal.\n\n\nPRIMARY STAGING DETAILS: 07-17-19 \nStaging Time: 12:30  \nNational Guard Armory\n300 Highway 468Brandon\, MS 39042\nBrandon\, Mississippi 39042\n\n\nRide Captain: \nKeith (Papa Bear) Grantham\n601-503-3773\n\n\nSpecial Instructions: \nGraveside Service ONLY.\nMeet at the National Guard Armory at 12:30 pm.\nKSU at 12:45 to go next door to graveside services at Brandon Memorial Gardens.\n\n\nFlags & Water:\nFlags will be provided\nIf you have large bike flags\, please bring them.\nWater WILL NOT be provided\, please bring your own.\n\n\n\nSubmitted By: Keith Grantham \nPosition: Mississippi Assistant State Captain \n\nNote: You do not have to own/ride a motorcycle or be a veteran to join\, and membership is Free. The only requirement is RESPECT! To subscribe to receive mission notices\, log into the National Site and click on the Members tab at the top. Select the Subscribe to PGR Missions option.\n Print This Page
URL:https://www.patriotguard.org/mission/daniel-dewitt-godby/
CATEGORIES:Honor Mission
END:VEVENT
END:VCALENDAR