BEGIN:VCALENDAR
VERSION:2.0
PRODID:-//Patriot Guard Riders - ECPv5.3.2.1//NONSGML v1.0//EN
CALSCALE:GREGORIAN
METHOD:PUBLISH
X-WR-CALNAME:Patriot Guard Riders
X-ORIGINAL-URL:https://www.patriotguard.org
X-WR-CALDESC:Events for Patriot Guard Riders
BEGIN:VTIMEZONE
TZID:America/New_York
BEGIN:DAYLIGHT
TZOFFSETFROM:-0500
TZOFFSETTO:-0400
TZNAME:EDT
DTSTART:20190310T070000
END:DAYLIGHT
BEGIN:STANDARD
TZOFFSETFROM:-0400
TZOFFSETTO:-0500
TZNAME:EST
DTSTART:20191103T060000
END:STANDARD
END:VTIMEZONE
BEGIN:VEVENT
DTSTART;VALUE=DATE:20190607
DTEND;VALUE=DATE:20190608
DTSTAMP:20210405T135757
CREATED:20190607T000537Z
LAST-MODIFIED:20190607T000537Z
UID:163869-1559865600-1559951999@www.patriotguard.org
SUMMARY:Daniel D. Henderson
DESCRIPTION:Honor Mission\nDaniel D. Henderson\, Veteran\nUSA – USMC\nDallas\, Texas – 06-07-19\n\n\n \n\nABOUT THE MISSION: \nCpl Daniel Henderson served a little over 2 years in the US Army as a Radio Repair and Calibration Technician prior to entering the US Marine Corps in May 1961. He continued to serve as a Radio Repair and Calibration Technician throughout his military service. Cpl Henderson was a Vietnam Era Veteran awarded the National Defense Service Medal and honorably discharged in May 1965.\n\n\nPRIMARY STAGING DETAILS: 06-07-19 \nStaging Time: 10:15 am\n \nDallas-Fort Worth National Cemetery\n2000 Mountain Creek Pkwy\nDallas\, Texas 75211\n\n\nRide Captain: \nJim Anderson\nweirdandy@hotmail.com\n(817) 269-1254\n\n\nSpecial Instructions: \nBriefing Time 10:30 am\nIn Position/KSU Time 10:45 am\nStarting Time 11:00 am\nPrior to the riders briefing at the Visitor Center\, four honor bikes will be selected to accompany the coach to committal Shelter A. After the riders briefing\, the PGR will stand the flag line at the designated shelter. There we will “Stand Tall and Silent” in honor of an American Hero\, Cpl De Henderson\, US Marine Corps\, his family and friends. Upon conclusion of the Interment Service\, the flags will be furled and returned to storage followed by rider debrief and dismissal.\n\nFlags & Water:\nFlags will be provided\nIf you have large bike flags\, please bring them.\nWater WILL NOT be provided\, please bring your own.\n\n\n\nSubmitted By: Dan Mathys \nPosition: Texas Ride Captain \n\nNote: You do not have to own/ride a motorcycle or be a veteran to join\, and membership is Free. The only requirement is RESPECT! To subscribe to receive mission notices\, log into the National Site and click on the Members tab at the top. Select the Subscribe to PGR Missions option.\n Print This Page
URL:https://www.patriotguard.org/mission/daniel-d-henderson/
CATEGORIES:Honor Mission
END:VEVENT
END:VCALENDAR