BEGIN:VCALENDAR
VERSION:2.0
PRODID:-//Patriot Guard Riders - ECPv5.3.2.1//NONSGML v1.0//EN
CALSCALE:GREGORIAN
METHOD:PUBLISH
X-WR-CALNAME:Patriot Guard Riders
X-ORIGINAL-URL:https://www.patriotguard.org
X-WR-CALDESC:Events for Patriot Guard Riders
BEGIN:VTIMEZONE
TZID:America/New_York
BEGIN:DAYLIGHT
TZOFFSETFROM:-0500
TZOFFSETTO:-0400
TZNAME:EDT
DTSTART:20190310T070000
END:DAYLIGHT
BEGIN:STANDARD
TZOFFSETFROM:-0400
TZOFFSETTO:-0500
TZNAME:EST
DTSTART:20191103T060000
END:STANDARD
END:VTIMEZONE
BEGIN:VEVENT
DTSTART;VALUE=DATE:20190502
DTEND;VALUE=DATE:20190504
DTSTAMP:20210403T101153
CREATED:20190502T161454Z
LAST-MODIFIED:20190502T161609Z
UID:159535-1556755200-1556927999@www.patriotguard.org
SUMMARY:Daniel Burke
DESCRIPTION:Honor Mission\nDaniel Burke \, Veteran\nUSA – WoT\nBoise\, Idaho  05-02-19 and 05-03-19\n\n\nABOUT THE MISSION:\n\nWe will Honor SPC Daniel Burke with an escort at his Honorable transfer and a Flag line at his interment. He served Honorably 12-29-2015/4-18-2019\n\n\nPRIMARY STAGING DETAILS: 05-02-19 Thursday\nStaging Time: 11:15 PM (23:15) \nChevron station exit 57 off I 84\nBoise\, Idaho\nKSU 11:35\n\n\nRide Captain: \nLyle Frost\nlylfrost1933@gmail.com\n208 841 6436\n\n\nSpecial Instructions: \nThis is a two stage mission and is extremely short notice. We will receive Spc. Burke at Gowen Field tonight and escort him to Bowman Funeral home and stand for him tomorrow at Idaho State Veterans Cemetery. KSU 11:35 PM Thur night. Please note that the requirements for admission to the Base at Gowen are as follows. Current ID\, proof of insurance\, Helmet\, long sleeves\, gloves\, long pants\, over the ankle shoes and eye protection. We will enter the base as a group and stage on General Manning blvd. Briefing/Updates/waivers.\n\n\nFlags & Water:\nFlags will not be provided\nLarge Bike Flags will NOT be needed.\nWater WILL NOT be provided\, please bring your own.\n\nSTAGING #2 DETAILS: 05-03-19 Friday\nStaging Time: 9:00 am \nWinco parking lot NW corner of Old Horseshoe Bend rd. and W. State st.\nEagle\, Idaho\n          KSU 9:30 am\n\n\n\nRide Captain: \nDario Bell\ndariobell@cableone.net\n208 515 6959\n\n\nSpecial Instructions: \nBriefing/Updates/waivers:\nFlag up and ride as a group to ISVC\n\n\nFlags & Water:\nFlags will not be provided\nIf you have large bike flags\, please bring them.\nWater WILL NOT be provided\, please bring your own.\n\n\n\nSubmitted By: Lyle Frost \nPosition: Idaho Assistant State Captain \n\nNote: You do not have to own/ride a motorcycle or be a veteran to join\, and membership is Free. The only requirement is RESPECT! To subscribe to receive mission notices\, log into the National Site and click on the Members tab at the top. Select the Subscribe to PGR Missions option.\n Print This Page
URL:https://www.patriotguard.org/mission/daniel-burke/
CATEGORIES:Honor Mission
END:VEVENT
END:VCALENDAR