BEGIN:VCALENDAR
VERSION:2.0
PRODID:-//Patriot Guard Riders - ECPv5.6.0//NONSGML v1.0//EN
CALSCALE:GREGORIAN
METHOD:PUBLISH
X-WR-CALNAME:Patriot Guard Riders
X-ORIGINAL-URL:https://www.patriotguard.org
X-WR-CALDESC:Events for Patriot Guard Riders
BEGIN:VTIMEZONE
TZID:America/New_York
BEGIN:DAYLIGHT
TZOFFSETFROM:-0500
TZOFFSETTO:-0400
TZNAME:EDT
DTSTART:20150308T070000
END:DAYLIGHT
BEGIN:STANDARD
TZOFFSETFROM:-0400
TZOFFSETTO:-0500
TZNAME:EST
DTSTART:20151101T060000
END:STANDARD
END:VTIMEZONE
BEGIN:VEVENT
DTSTART;TZID=America/New_York:20150402T090000
DTEND;TZID=America/New_York:20150402T110000
DTSTAMP:20210513T045052
CREATED:20150402T130000Z
LAST-MODIFIED:20191201T125802Z
UID:395864-1427965200-1427972400@www.patriotguard.org
SUMMARY:Daniel A. Dusenbery
DESCRIPTION:*** Honor Mission***\nDaniel A. Dusenbery\n39 Year Veteran of the Des Moines Police Department.\nDes Moines\, Iowa\nApril 2\,  2015\n\n[FONT=&quot] [/FONT][FONT=&quot][/FONT] \n[FONT=&quot]  [/FONT]\n[FONT=&quot]The family of [/FONT][FONT=&quot]Daniel         A. Dusenbery has asked the Patriot Guard to show honor and respect           for Dan\, who served           39 years with the Des Moines Police Department. [/FONT]\n[FONT=&quot] [/FONT]\n[FONT=&quot]Rally Time:    12:30 PM.            Thursday April 2\, 2015[/FONT][FONT=&quot]  [/FONT]\n[FONT=&quot]Briefing:         12:45         PM.[/FONT]\n[FONT=&quot]Flag Line:               1:00 PM.[/FONT]\n[FONT=&quot] [/FONT]\n[FONT=&quot]Rally point:[/FONT][FONT=&quot]    [/FONT][FONT=&quot]St. John’s Lutheran         Church[/FONT]\n[FONT=&quot]600         Sixth Avenue\nDes Moines\, IA [/FONT]\n[FONT=&quot] [/FONT]\n[FONT=&quot]https://goo.gl/maps/HDhka[/FONT] \n[FONT=&quot] [/FONT]\n[FONT=&quot]Service:[/FONT][FONT=&quot][/FONT]\n[FONT=&quot]2:00 PM[/FONT]\n[FONT=&quot]St. John’s         Lutheran Church[/FONT]\n[FONT=&quot]Interment:       [/FONT][FONT=&quot]             [/FONT][FONT=&quot]Glendale         Cemetery[/FONT]\n[FONT=&quot]4909         University Avenue\nDes Moines\, IA [/FONT]\n[FONT=&quot]                        [/FONT][FONT=&quot]https://goo.gl/maps/iw06F[/FONT][FONT=&quot][/FONT]\n[FONT=&quot] [/FONT]\n[FONT=&quot] [/FONT]\n[FONT=&quot]Ride Captain: [/FONT]\n[FONT=&quot]Bob Lohrman[/FONT]\n[FONT=&quot]rclohrmanjr@q.com[/FONT]\n[FONT=&quot]515-491-0817[/FONT]\n[FONT=&quot] [/FONT]\n[FONT=&quot] [/FONT]\n[FONT=&quot]Posted By:[/FONT]\n[FONT=&quot]Jim Clark[/FONT]
URL:https://www.patriotguard.org/mission/daniel-a-dusenbery/
CATEGORIES:Archive
END:VEVENT
END:VCALENDAR