BEGIN:VCALENDAR
VERSION:2.0
PRODID:-//Patriot Guard Riders - ECPv5.3.2.1//NONSGML v1.0//EN
CALSCALE:GREGORIAN
METHOD:PUBLISH
X-WR-CALNAME:Patriot Guard Riders
X-ORIGINAL-URL:https://www.patriotguard.org
X-WR-CALDESC:Events for Patriot Guard Riders
BEGIN:VTIMEZONE
TZID:America/New_York
BEGIN:DAYLIGHT
TZOFFSETFROM:-0500
TZOFFSETTO:-0400
TZNAME:EDT
DTSTART:20190310T070000
END:DAYLIGHT
BEGIN:STANDARD
TZOFFSETFROM:-0400
TZOFFSETTO:-0500
TZNAME:EST
DTSTART:20191103T060000
END:STANDARD
END:VTIMEZONE
BEGIN:VEVENT
DTSTART;VALUE=DATE:20190705
DTEND;VALUE=DATE:20190706
DTSTAMP:20210404T064001
CREATED:20190703T180444Z
LAST-MODIFIED:20190703T180444Z
UID:166501-1562284800-1562371199@www.patriotguard.org
SUMMARY:Dane Robert DeRousse
DESCRIPTION:Honor Mission\nDane Robert DeRousse\, Veteran\nUSMC –  WoT\nFestus\, Missouri – 07-05-19\n\n\n\n\nABOUT THE MISSION: \nThe family of U.S. Marine Corp veteran\, CPL Dane R. DeRousse (35 yrs.)\, has requested the presence of the Patriot Guard for the final mission of their loved one.  CPL DeRousse served from Feb. 2006 to Jan. of 2009. He served during the Operation Iraqi Freedom Campaign and had earned the Iraq Campaign Medal\, Iraq Sea Service Deployment Ribbon\, Global War on Terrorism Service Medal\, National Defense Service Medal\, Meritorious Mast\, Letter of Appreciation\, Expert Rifle Badge (3rd Award);\,and the Good Conduct Medal.\n\n\nPRIMARY STAGING DETAILS: 07-05-19 \nStaging Time: 10:45 am \nVinyard Funeral Home\n616 W. Main Street\nFestus\, Missouri 63028\n\n\nRide Captain: \nDave “Rebel” Beck\nASCDB59110@aol.com\nFlags/Support:  TBD\n\n\nSpecial Instructions: \nStaging: 10:45 am\,  to stake flags & establish a flag line.\nVisitation: 11:00 am to 12:00 Noon.\nService: 12:00 Noon.\nHonor escort: Immediately following service to Jefferson Barracks National Cemetery ( St. Louis\, MO / 25.5 miles) for interment with full military honors.  Weather pred. 86 /Scattered thunderstorms / 40% chance of precip.  Travel and dress accordingly.  Cages are always welcome.  Hydrate\, hydrate\, hydrate.\n\nFlags & Water:\nFlags will be provided\nIf you have large bike flags\, please bring them.\nWater WILL NOT be provided\, please bring your own.\n\n\n\n\nSubmitted By: S. Roger “Goose” Dollinger\, SRC. \nPosition: Missouri Ride Captain \n\nNote: You do not have to own/ride a motorcycle or be a veteran to join\, and membership is Free. The only requirement is RESPECT! To subscribe to receive mission notices\, log into the National Site and click on the Members tab at the top. Select the Subscribe to PGR Missions option.\n Print This Page
URL:https://www.patriotguard.org/mission/dane-robert-derousse/
CATEGORIES:Honor Mission
END:VEVENT
END:VCALENDAR