BEGIN:VCALENDAR
VERSION:2.0
PRODID:-//Patriot Guard Riders - ECPv5.6.0//NONSGML v1.0//EN
CALSCALE:GREGORIAN
METHOD:PUBLISH
X-WR-CALNAME:Patriot Guard Riders
X-ORIGINAL-URL:https://www.patriotguard.org
X-WR-CALDESC:Events for Patriot Guard Riders
BEGIN:VTIMEZONE
TZID:America/New_York
BEGIN:DAYLIGHT
TZOFFSETFROM:-0500
TZOFFSETTO:-0400
TZNAME:EDT
DTSTART:20150308T070000
END:DAYLIGHT
BEGIN:STANDARD
TZOFFSETFROM:-0400
TZOFFSETTO:-0500
TZNAME:EST
DTSTART:20151101T060000
END:STANDARD
END:VTIMEZONE
BEGIN:VEVENT
DTSTART;TZID=America/New_York:20150514T090000
DTEND;TZID=America/New_York:20150514T110000
DTSTAMP:20210511T135245
CREATED:20150514T130000Z
LAST-MODIFIED:20191201T125254Z
UID:394946-1431594000-1431601200@www.patriotguard.org
SUMMARY:Dan W. Gafeller\, USA
DESCRIPTION:Dan W. Gafeller\, U.S. Army Vietnam War Era Veteran\nWest Branch\, Iowa\nMay 14  2015 \nThe family of Dan W. Gafeller has asked the Patriot Guard to show honor and respect for Dan\, who served in the U.S. Army in Korea during the Vietnam War. Military honors by the Tipton VFW Post 2537 and American Legion Post 123. \nRally Time:    8:30 AM.    Thursday May 14\, 2015 \nBriefing:        8:45 AM. \nFlag Line:     9:00 AM. \nRally point:\nHenderson-Barker Funeral Home\n205 East 3rd St.\nWest Branch\, Iowa \nhttps://goo.gl/maps/LT67P \nService:\nHenderson-Barker Funeral Home \n10:00 AM \nInterment:  Springdale Cemetery as soon as the service is complete. \nhttps://goo.gl/maps/gPTls \nNote: To Riders there is about ½  mile of gravel road to Cemetery \nRide Captain:\nDoug Boemecke\ndhboemecke@mediacombb.net\n563-391-0944 \nPosted By:\nJim Clark\nAsst. State Captain
URL:https://www.patriotguard.org/mission/dan-w-gafeller-usa/
CATEGORIES:Archive
END:VEVENT
END:VCALENDAR