BEGIN:VCALENDAR
VERSION:2.0
PRODID:-//Patriot Guard Riders - ECPv5.3.2.1//NONSGML v1.0//EN
CALSCALE:GREGORIAN
METHOD:PUBLISH
X-WR-CALNAME:Patriot Guard Riders
X-ORIGINAL-URL:https://www.patriotguard.org
X-WR-CALDESC:Events for Patriot Guard Riders
BEGIN:VTIMEZONE
TZID:America/New_York
BEGIN:DAYLIGHT
TZOFFSETFROM:-0500
TZOFFSETTO:-0400
TZNAME:EDT
DTSTART:20190310T070000
END:DAYLIGHT
BEGIN:STANDARD
TZOFFSETFROM:-0400
TZOFFSETTO:-0500
TZNAME:EST
DTSTART:20191103T060000
END:STANDARD
END:VTIMEZONE
BEGIN:VEVENT
DTSTART;VALUE=DATE:20190718
DTEND;VALUE=DATE:20190719
DTSTAMP:20210404T015728
CREATED:20190717T203842Z
LAST-MODIFIED:20190717T203842Z
UID:167990-1563408000-1563494399@www.patriotguard.org
SUMMARY:Dan G. Moore
DESCRIPTION:Honor Mission\nDan G. Moore\, Veteran\nUSA \, USAR – Vietnam\nSt Charles\, Missouri – 07-18-19\n\n\n\nABOUT THE MISSION: \nLadies and Gentlemen of the Patriot Guard Riders\, we have been invited to honor a revered member of the United States Military. The family of Dan G. Moore has invited Patriot Guard Riders to stand a flag line of honor and respect. It will be our honor to do so. We will then escort their loved one to his final resting place in the Hallowed Grounds of Jefferson Barracks National Cemetery for his final Military Honors. Hero Moore served in the United States Army from April 1968 to January\, 1970\, and the Army Reserve until April of 1974. He earned the rank of E5 and was a Lt Weapons Infantryman. SGT Moore was awarded the National Defense Service Medal; Vietnam Service Medal w/1 Bronze Service Star; Republic of Vietnam Campaign Medal; Army Commendation Medal; Air Medal; Combat Infantryman Badge; and Expert Rifle. Thank you\, Mr. Moore\, from a grateful Nation. Your faithful dedication to serve the United States of America is deeply appreciated\, and will never be forgotten.\n\n\nPRIMARY STAGING DETAILS: 07-18-19 \nStaging Time: 10:45 AM\n \nBaue Funeral & Memorial Center\n3950 W Clay St\nSt Charles\, Missouri 63301\nMap\n\n\nRide Captain: \nJoseph “Mustang” Bilodeau\njoseph1918@aol.com\n(636) 577-4767\n\n\nSpecial Instructions: \nStage/Mission Brief: 10:45\nFlag Line from 11:00 to 12:00\nFuneral Service at 12:00\nFollowing the Service\, we will escort our hero to Jefferson Barracks National Cemetery for a 1:30 PM slot.\nWeather forecast is sunny with a high of 98F\, heat index of 105F. 0% chance of rain. Dress appropriately.\nFlags and Support by Mike “Jenky” Jenkins.\nCages are always welcome.\nRemember to Hydrate\, Hydrate\, HYDRATE.\n\n\nFlags & Water:\nFlags will be provided\nIf you have large bike flags\, please bring them.\nWater will be provided.\n\n\n\nSubmitted By: Joseph Bilodeau \nPosition: Missouri Ride Captain \n\nNote: You do not have to own/ride a motorcycle or be a veteran to join\, and membership is Free. The only requirement is RESPECT! To subscribe to receive mission notices\, log into the National Site and click on the Members tab at the top. Select the Subscribe to PGR Missions option.\n Print This Page
URL:https://www.patriotguard.org/mission/dan-g-moore/
CATEGORIES:Honor Mission
END:VEVENT
END:VCALENDAR