BEGIN:VCALENDAR
VERSION:2.0
PRODID:-//Patriot Guard Riders - ECPv5.6.0//NONSGML v1.0//EN
CALSCALE:GREGORIAN
METHOD:PUBLISH
X-WR-CALNAME:Patriot Guard Riders
X-ORIGINAL-URL:https://www.patriotguard.org
X-WR-CALDESC:Events for Patriot Guard Riders
BEGIN:VTIMEZONE
TZID:America/New_York
BEGIN:DAYLIGHT
TZOFFSETFROM:-0500
TZOFFSETTO:-0400
TZNAME:EDT
DTSTART:20160313T070000
END:DAYLIGHT
BEGIN:STANDARD
TZOFFSETFROM:-0400
TZOFFSETTO:-0500
TZNAME:EST
DTSTART:20161106T060000
END:STANDARD
END:VTIMEZONE
BEGIN:VEVENT
DTSTART;TZID=America/New_York:20160812T090000
DTEND;TZID=America/New_York:20160812T110000
DTSTAMP:20210511T205226
CREATED:20160812T130000Z
LAST-MODIFIED:20191201T143703Z
UID:410000-1470992400-1470999600@www.patriotguard.org
SUMMARY:Dale Parker\, 72\, USA
DESCRIPTION:The family of Dale Parker\, age 72\, of Olney\, IL has requested the presence of the Patriot Guard Riders at his funeral service.  Dale was a veteran of the Vietnam War and served in the United States Army.  He will be greatly missed by his family and friends.  It will our honor to stand a flag line for his service to our nation. \nDate:  Friday 12 August 16 \nTime:  1100 Hours \nPlace:  Kistler-Patterson Funeral Home\n            205 East Elm Street\n            Olney\, IL \nStaging: 0930 Hours in funeral home parking lot \nNotes:  There will be no escort\, and no public visitation on Friday.  We will be at station for the family and friends when they arrive for a private funeral ceremony.  The American Legion/VFW will perform their ceremony at the funeral home\, and we will do our presentation at this time as well.  Stay hydrated! \nRide Captain in charge:  Gene Kollak\n                                       Contact # 618-516-2799\n\nAsst Ride Captain:  Mike Merriman \n                                Contact # 618-322-8300
URL:https://www.patriotguard.org/mission/dale-parker-72-usa/
CATEGORIES:Archive
END:VEVENT
END:VCALENDAR