BEGIN:VCALENDAR
VERSION:2.0
PRODID:-//Patriot Guard Riders - ECPv5.6.0//NONSGML v1.0//EN
CALSCALE:GREGORIAN
METHOD:PUBLISH
X-WR-CALNAME:Patriot Guard Riders
X-ORIGINAL-URL:https://www.patriotguard.org
X-WR-CALDESC:Events for Patriot Guard Riders
BEGIN:VTIMEZONE
TZID:America/New_York
BEGIN:DAYLIGHT
TZOFFSETFROM:-0500
TZOFFSETTO:-0400
TZNAME:EDT
DTSTART:20160313T070000
END:DAYLIGHT
BEGIN:STANDARD
TZOFFSETFROM:-0400
TZOFFSETTO:-0500
TZNAME:EST
DTSTART:20161106T060000
END:STANDARD
END:VTIMEZONE
BEGIN:VEVENT
DTSTART;TZID=America/New_York:20160826T090000
DTEND;TZID=America/New_York:20160826T110000
DTSTAMP:20210512T045905
CREATED:20160826T130000Z
LAST-MODIFIED:20191201T143330Z
UID:409670-1472202000-1472209200@www.patriotguard.org
SUMMARY:Dale Eugene Rimbey\, 90\, USA
DESCRIPTION:The Patriot Guard has been requested by the family of Dale “Cappy” Rimbey to provide escort for their loved one in honor of his service to this Great Nation.  Dale served proudly in the US Army during WWII in the Asiatic Theater of Operation.  He served from August of 1944 until September of 1945\, was awarded the Purple Heart for wounds suffered on April 19\,1945.  Dale also was awarded the Bronze Star and the Asiatic Pacific Campaign Medal.  Dale is the father of Lynn Rimbey\, a PGR member from Greenfield. \nFUNERAL \nDate:  Fri\, 26 Aug 16\nTime: 1000 hrs (10:00 am) \nPlace:  Crawford Funeral Home\n1308State (IL Hwy 109)\nJerseyville\, IL \nStaging:  0845hrs (08:45 am) Funeral Home Parking Lot. Line up per RC instructions.\nFamily is due to arrive about 9:15 am. \nFollowing the funeral family and friends will be escorted to Witt Cemetery in Rockbridge\, IL\, a distance of approximately 20 miles for Dale’s interment. Military honors will be accorded at the cemetery. \nTemps have returned to the norm for August\, so please HYDRATE!! \nRC: Ed Downey (618) 498-2890 \nRC: James Roady (217) 370-9384\n(w/flag support and water)
URL:https://www.patriotguard.org/mission/dale-eugene-rimbey-90-usa/
CATEGORIES:Archive
END:VEVENT
END:VCALENDAR